BEGIN:VCALENDAR
VERSION:2.0
PRODID:-//Buda Castlemaine - ECPv6.15.17.1//NONSGML v1.0//EN
CALSCALE:GREGORIAN
METHOD:PUBLISH
X-ORIGINAL-URL:https://budacastlemaine.org
X-WR-CALDESC:Events for Buda Castlemaine
REFRESH-INTERVAL;VALUE=DURATION:PT1H
X-Robots-Tag:noindex
X-PUBLISHED-TTL:PT1H
BEGIN:VTIMEZONE
TZID:Australia/Melbourne
BEGIN:STANDARD
TZOFFSETFROM:+1100
TZOFFSETTO:+1000
TZNAME:AEST
DTSTART:20240406T160000
END:STANDARD
BEGIN:DAYLIGHT
TZOFFSETFROM:+1000
TZOFFSETTO:+1100
TZNAME:AEDT
DTSTART:20241005T160000
END:DAYLIGHT
BEGIN:STANDARD
TZOFFSETFROM:+1100
TZOFFSETTO:+1000
TZNAME:AEST
DTSTART:20250405T160000
END:STANDARD
BEGIN:DAYLIGHT
TZOFFSETFROM:+1000
TZOFFSETTO:+1100
TZNAME:AEDT
DTSTART:20251004T160000
END:DAYLIGHT
BEGIN:STANDARD
TZOFFSETFROM:+1100
TZOFFSETTO:+1000
TZNAME:AEST
DTSTART:20260404T160000
END:STANDARD
BEGIN:DAYLIGHT
TZOFFSETFROM:+1000
TZOFFSETTO:+1100
TZNAME:AEDT
DTSTART:20261003T160000
END:DAYLIGHT
END:VTIMEZONE
BEGIN:VEVENT
DTSTART;TZID=Australia/Melbourne:20250503T110000
DTEND;TZID=Australia/Melbourne:20250503T150000
DTSTAMP:20260420T053907
CREATED:20250206T030823Z
LAST-MODIFIED:20250409T044537Z
UID:4010-1746270000-1746284400@budacastlemaine.org
SUMMARY:Mountains v Mullock Heaps. An Eat-Talk-Walk at Buda!
DESCRIPTION:Dig in to a delicious hot soup lunch as Buda’s Curators unearth the life and gardens of Goldfields legend\, Ernest Leviny\, plus in-House exhibition that continues throughout the National Trust Heritage Festival.\nBOOK NOW\nThis year\, Buda’s Autumn Garden Ramble and talk runs concurrently with the in-house exhibition “From Mountains to Mullock Heaps: Ernest Leviny UnZIPSed”  and Buda is bundling it all into a special package for the National Trust Heritage Festival \n[vc_row][vc_column width=’1/3′][/vc_column][vc_column width=’2/3′]Ryan Garratt is Buda’s Garden Curator. Join him at 11am for a very special tour of Buda’s famous gardens\, highlighting the influence and distinctive designs of its creator\, Ernest Leviny. [/vc_column][/vc_row] \n[vc_row][vc_column width=’1/3′][/vc_column][vc_column width=’2/3′]Then join House Curator\, Sarah Frazer\, over lunch as she ploughs into the rich and fertile history beneath this Goldfields migrant success story.  Expect an adventure of Romanticism and Revolutions starting in Leviny’s Zipser homeland of Carpathia\, and traversing 1800s Buda(/Pest)\, Vienna\, Paris and London before arriving in Castlemaine. [/vc_column][/vc_row] \nFor the full experience\, enjoy complimentary entry to the House and exhibition included with your ticket. \nBOOK NOW\nExhibition opens on April 4th and continues throughout the Heritage Festival. General admission applies. Discount applies for National Trust members during the festival.
URL:https://budacastlemaine.org/event/mountains-v-mullock/
LOCATION:Buda Historic Home and Garden\, 42 Hunter St\, CASTLEMAINE\, VIC\, 3450\, Australia
ATTACH;FMTTYPE=image/jpeg:https://budacastlemaine.org/wp-content/uploads/2025/02/Mountains_v_Mullock_Heaps_at_Buda_AHF_2025.jpg
END:VEVENT
BEGIN:VEVENT
DTSTART;TZID=Australia/Melbourne:20250511T140000
DTEND;TZID=Australia/Melbourne:20250511T160000
DTSTAMP:20260420T053907
CREATED:20250402T011048Z
LAST-MODIFIED:20250402T013609Z
UID:4050-1746972000-1746979200@budacastlemaine.org
SUMMARY:Mother's Day Afternoon Tea 2025
DESCRIPTION:Kavisha Mazella\n \nThis year’s Mother’s Day afternoon tea will be on Sunday 11th May 2025 commencing at 2pm and featuring the beautiful Kavisha Mazella. A perfect way to spend a Sunday afternoon celebrating Mother’s or friends. \nBOOK NOW\nARIA award winner and songbird Kavisha Mazzella original song’s lyrical ingredients include humour\, poetry\, social justice and the spiritual. Combine this prowess with the voice of an angel and you have the experience of a Kavisha concert. Singing in English and Italian\, she will take you on an uplifting boundary-riding journey of well-crafted stories and songs ringing with echoes of Celtic\, Fado and Gypsy influences that will strike a resounding chord within. With eight solo albums under her belt\, she has sung and given vocal workshops at national music festivals and abroad.\n“A power and presence that’s beyond words” Colum Sands\n[vc_video link=’https://youtu.be/Slp4ramxjdc?si=6BuUJMzFsMDP2zDA’] \nWhat you can expect \n\n\n\n\n\nSparkling wine on arrival\nSavouries and sweets\nLeaf tea and brewed coffee\n\nBOOK NOW\nPlease email any dietary restrictions \n\n     \n$50 ADULT $48 CONC\n$45 FRIENDS OF BUDA
URL:https://budacastlemaine.org/event/mothers-day-2025/
LOCATION:Buda Historic Home and Garden\, 42 Hunter St\, CASTLEMAINE\, VIC\, 3450\, Australia
ATTACH;FMTTYPE=image/jpeg:https://budacastlemaine.org/wp-content/uploads/2025/04/soundhealing-headshot1-copy-2.jpg
END:VEVENT
END:VCALENDAR