BEGIN:VCALENDAR
VERSION:2.0
PRODID:-//Buda Castlemaine - ECPv6.15.17.1//NONSGML v1.0//EN
CALSCALE:GREGORIAN
METHOD:PUBLISH
X-WR-CALNAME:Buda Castlemaine
X-ORIGINAL-URL:https://budacastlemaine.org
X-WR-CALDESC:Events for Buda Castlemaine
REFRESH-INTERVAL;VALUE=DURATION:PT1H
X-Robots-Tag:noindex
X-PUBLISHED-TTL:PT1H
BEGIN:VTIMEZONE
TZID:Australia/Melbourne
BEGIN:STANDARD
TZOFFSETFROM:+1100
TZOFFSETTO:+1000
TZNAME:AEST
DTSTART:20230401T160000
END:STANDARD
BEGIN:DAYLIGHT
TZOFFSETFROM:+1000
TZOFFSETTO:+1100
TZNAME:AEDT
DTSTART:20230930T160000
END:DAYLIGHT
BEGIN:STANDARD
TZOFFSETFROM:+1100
TZOFFSETTO:+1000
TZNAME:AEST
DTSTART:20240406T160000
END:STANDARD
BEGIN:DAYLIGHT
TZOFFSETFROM:+1000
TZOFFSETTO:+1100
TZNAME:AEDT
DTSTART:20241005T160000
END:DAYLIGHT
BEGIN:STANDARD
TZOFFSETFROM:+1100
TZOFFSETTO:+1000
TZNAME:AEST
DTSTART:20250405T160000
END:STANDARD
BEGIN:DAYLIGHT
TZOFFSETFROM:+1000
TZOFFSETTO:+1100
TZNAME:AEDT
DTSTART:20251004T160000
END:DAYLIGHT
END:VTIMEZONE
BEGIN:VEVENT
DTSTART;TZID=Australia/Melbourne:20240823T170000
DTEND;TZID=Australia/Melbourne:20241129T170000
DTSTAMP:20260420T004456
CREATED:20240805T050059Z
LAST-MODIFIED:20240805T050316Z
UID:3873-1724432400-1732899600@budacastlemaine.org
SUMMARY:Terry Jarvis Seasons of Buda
DESCRIPTION:Watercolour Exhibition 2024\nTerry Jarvis was born and grew up in Castlemaine. It is where he developed a love and appreciation for the outdoors as a boy\, playing in the creeks\, fishing in the river and collecting fire wood in the bushland with his Dad. He started with sketching as a boy and it developed into a passion for his favourite medium\, watercolour. \nTerry is a regular tutor through out Australia and overseas and has award winning paintings in private collections world wide. \n“I am inspired every day by the kangaroo’s amongst the gum trees and the ever changing beauty of the forest. I love the challenge that every water colour painting brings\, to catch the light and those special moments in time.” \nPlease joins us for wine and canapés to open the exhibition on Friday August 23. Exhibition viewings from 5pm followed by drinks in the Garden Room\, where House Curator Sarah Fraser will officially open the exhibition and we will hear from Terry about his connection to Buda. \nThe exhibition continues in the house right through until November 30. General admission applies. Paintings will be for sale. \n   
URL:https://budacastlemaine.org/event/terry-jarvis/
LOCATION:VIC
ATTACH;FMTTYPE=image/jpeg:https://budacastlemaine.org/wp-content/uploads/2024/08/TJ1.jpeg
END:VEVENT
BEGIN:VEVENT
DTSTART;TZID=Australia/Melbourne:20241102T093000
DTEND;TZID=Australia/Melbourne:20241102T160000
DTSTAMP:20260420T004456
CREATED:20240816T072128Z
LAST-MODIFIED:20240819T022615Z
UID:3889-1730539800-1730563200@budacastlemaine.org
SUMMARY:Watercolour Workshop with Terry Jarvis
DESCRIPTION:Painting the beauty of Buda with Terry Jarvis\nBOOK NOW\nThis one day Watercolour Workshop with Terry Jarvis will include instruction in catching the light\, composition\, tone\, handling colour\, connecting buildings to the landscape\, and telling your story visually in Watercolour. \nTerry Jarvis was born and grew up in Castlemaine. It is where he developed a love and appreciation for the outdoors as a boy\, playing in the creeks\, fishing in the river and collecting fire wood in the bushland with his Dad. He started with sketching as a boy and it developed into a passion for his favourite medium\, watercolour. \nTerry is a regular tutor through out Australia and overseas and has award winning paintings in private collections world wide. \n“I am inspired every day by the kangaroo’s amongst the gum trees and the ever changing beauty of the forest. I love the challenge that every water colour painting brings\, to catch the light and those special moments in time.” \nWeather permitting you will be painting en plain air outside in the beautiful Buda gardens and surrounds unfolding the majesty\, charm\, and history of one of Australia’s most important buildings from the Goldfields era as we paint. \nTerry will guide you through your wonderful journey in Watercolour. \n9.30 am – 4pm Saturday 2nd November \nPlease download the Watercolour Workshop Requirement Details and further information. \nAll of these requirements are only a guide. Terry is super flexible and will work together with your equipment. \n…. And of course\, bring yourself! \nDon’t forget to view Terry’s Seasons of Buda exhibition in the house running until the 30th November. \nBOOK NOW\n       
URL:https://budacastlemaine.org/event/watercolour-workshop-with-terry-jarvis/
LOCATION:VIC
ATTACH;FMTTYPE=image/jpeg:https://budacastlemaine.org/wp-content/uploads/2024/08/TJ3.jpg
END:VEVENT
BEGIN:VEVENT
DTSTART;TZID=Australia/Melbourne:20241103T120000
DTEND;TZID=Australia/Melbourne:20241103T160000
DTSTAMP:20260420T004456
CREATED:20240816T070813Z
LAST-MODIFIED:20240816T070813Z
UID:3886-1730635200-1730649600@budacastlemaine.org
SUMMARY:Drawing Workshop with Mark Dober
DESCRIPTION:Mark Dober will  be conducting a drawing workshop at Buda\, on Sunday 3 November 2024. The 4 hour workshop runs from 12 noon to 4 pm. \nMark makes his paintings and drawings in the landscape. Since moving from Melbourne to Castlemaine in 2016\, his work has been mostly made at a variety of sites in this region.\nWorking on site he seeks to convey the experiential with directness and immediacy. His response comprises a blend of the observed and imagined. He views the organic relationship between looking and mark making as intrinsic to the meaning of his work — integrated expressions of a direct and tactile engagement with place. He wants the viewer to experience a sense of immersion by physically engaging in the activity of viewing that mirrors his own physical engagement when making the work. \nDescription of workshop \nWe will draw in the gardens of Buda. The intention is to make 3 drawings: \nThe first drawing will be in charcoal\, buiding the work with tone and mark making (and using the eraser). \nThe second drawing will be using two dry media – commencing with red/brown conte\, then progressing to charcoal (and using the eraser). This drawing is layered and well reveals the process of looking and construction. \nThe third drawing will be using black ink and a brush. The first application will be in light grey. The second application will be much more black. \nA set amount of time will be allocated to each drawing. You may not finish one or more of these drawings\, they are exercises in drawing techinique/method.  I will demonstrate at the commencement of each drawing. Where there is time left over\, you can either go back to completing a drawing\, or start a new one\, deciding what media to use and how to proceed. \nThis workshop will introduce you to different methods of obervational drawing\, using differing media in a purposeful way. It will expand your technical range and provide you with drawing skills that underpin.painting. While especially useful for artists with experience in drawing\, the workshop can also accomodate adults with little or no drawing experience. \nCost:  The workshop is $100. Included in the cost is the paper\, drawing boards\, and drawing materials that Mark will provide (you can bring your own paper/materials if you like). Additionally\, there will be a $10/$12 entry fee into Buda\, which you pay when you come to the workshop. \nPlease email Mark at – info@markdober.com – to book your participation. Closer to the time of the workshop he will call for payment. \nBOOK NOW\n  \n 
URL:https://budacastlemaine.org/event/drawing-workshop-with-mark-dober/
LOCATION:VIC
ATTACH;FMTTYPE=image/jpeg:https://budacastlemaine.org/wp-content/uploads/2024/08/buda-ink-drawing-2024.jpeg
END:VEVENT
BEGIN:VEVENT
DTSTART;TZID=Australia/Melbourne:20241117T100000
DTEND;TZID=Australia/Melbourne:20241117T160000
DTSTAMP:20260420T004457
CREATED:20240520T033515Z
LAST-MODIFIED:20250106T222954Z
UID:3815-1731837600-1731859200@budacastlemaine.org
SUMMARY:Traditional Arts Fair 2024
DESCRIPTION:The Traditional Arts Fair 2024 is back on the 17th November.\n[vc_video link=’https://youtu.be/zV_gMAMi4rc’] \n[vc_separator type=’normal’ position=’center’ color=’#ffffff’ thickness=’50’ up=” down=”] \n[vc_row][vc_column width=’1/2′][/vc_column][vc_column width=’1/2′] \nBuda brings the Traditional Arts Fair to Castlemaine on Sunday November 17th from 10am till 4pm. Set amongst the spectacular spring garden Buda will showcase traditional arts\, cooking and gardening in as many and varied forms as possible\, in the spirit of the Leviny daughters. Embroidery\, book binding\, saffron\, weaving\, garden crafts\, metalwork\, felting\, painting\, jewellery\, cooking\, handmade body products\, basket weaving and much more! \nThe fair will also feature handcrafted ice cream\, coffee\, a gourmet BBQ\, Devonshire teas and light lunches. There will be something to satisfy every palate. \nWith three stages hosting free demonstrations\, individual demonstrations at each stall\, roving musicians and a special guest artist in residence\, there will be plenty of entertainment and opportunities to learn. Families can enjoy children’s activities to keep the little ones engaged and entertained throughout the day. There will be a Make’n Take table where you can learn to make some beautiful copper wares and there will be guided tours of the house at various times throughout the day. \nAdults are only 5 dollars and kids are free\, so don’t miss out on a fantastic family day out.\nGates are open at 10am until 4pm.\nBuy your tickets at the gate\n  \nPets not allowed please.\nAssistance dogs welcome.\n[/vc_column][/vc_row] \n[vc_separator type=’normal’ position=’center’ color=’#879a30′ thickness=’2′ up=” down=”] \nBuda’s famous produce will once again be on sale all day.\n       \n[vc_separator type=’normal’ position=’center’ color=’#879a30′ thickness=’2′ up=” down=”] \nDownload the Map and stallholder list>\n[vc_separator type=’normal’ position=’center’ color=’#879a30′ thickness=’2′ up=” down=”] \nWould you like to make your own handcrafted wares at the fair?\nTry the Make ‘n Take table >more details\nMaster of Buda Traditional Arts workshops\, Andrea McKey will help you use very simple techniques to make colourful and joyous plant pots to take home and brighten up your day. \n   \n[vc_separator type=’normal’ position=’center’ color=’#879a30′ thickness=’2′ up=” down=”] \nThe Free Demonstrations time table is here>\n   \n[vc_separator type=’normal’ position=’center’ color=’#879a30′ thickness=’2′ up=” down=”] \n2024 Raffle.\n1st Prize Handcrafted Quilt  by Diane Linton worth $1200 WON BY Janine Groves\n2nd Prize Artisan wares by Andrea McKey $600 WON BY Karen Moses\n3rd Prize Basket of Buda produce $200 WON BY C. Namo\nPlus! the every popluar Gingerbread house by Liz Beck WON BY Grace \n    \n[vc_separator type=’normal’ position=’center’ color=’#879a30′ thickness=’2′ up=” down=”] \nSmall Group Guided tours of the House\n11.30am\, 12.30pm\, 1.30pm\, 2.30pm \nBuda’s specialist Tour Guides will take you on a tour of the house and tell you the story of the Leviny family. \nBookings required at the booking table\, then meet at the rear of the house assembly area. (See map) \nSpecial fair price $5 \n     \n[vc_separator type=’normal’ position=’center’ color=’#879a30′ thickness=’2′ up=” down=”] \nFood! Handcrafted Icecream by Icecream Republic\, Coffee by Brewtech\, Thai Laksa and Khao Soi by Duang Tengtrirat.\n     \nGourmet BBQ including kids BBQ\, Teas\, cakes and scones in the Tea Rooms\n     \n[vc_separator type=’normal’ position=’center’ color=’#879a30′ thickness=’2′ up=” down=”] \nFree Kids activities on the lawn 10am – 3pm\n       \n[vc_separator type=’normal’ position=’center’ color=’#879a30′ thickness=’2′ up=” down=”] \nGreat fun music with the Kyneton Street Band\n[vc_video link=’https://youtu.be/uCdA-GVyGp0?si=AZdzU8aLP6tm0CHs’] \n[vc_separator type=’normal’ position=’center’ color=’#879a30′ thickness=’2′ up=” down=”] \nAll our stalls are booked for 2024. If you are interested in going on a wait list to hold a stall of your handcrafts\, please email secretary@budacastlemaine.org if you would like to run a stall of your handcrafts on the day.
URL:https://budacastlemaine.org/event/taf24/
LOCATION:VIC
ATTACH;FMTTYPE=image/png:https://budacastlemaine.org/wp-content/uploads/2019/10/TAF_Logo_s.png
END:VEVENT
BEGIN:VEVENT
DTSTART;TZID=Australia/Melbourne:20241117T103000
DTEND;TZID=Australia/Melbourne:20241117T150000
DTSTAMP:20260420T004457
CREATED:20241108T060715Z
LAST-MODIFIED:20241109T024216Z
UID:3915-1731839400-1731855600@budacastlemaine.org
SUMMARY:Traditional Arts Fair Make 'n Take
DESCRIPTION:Would you like to make your own handcrafted wares at the fair?\nBOOK NOW\n   \nMaster of Buda Traditional Arts workshops\, Andrea McKey will help you use very simple techniques to make colourful and joyous plant pots to take home and brighten up your day. \nAndrea is passionate about art\, colour\, patterns and the joy it brings to her life every day. She believes in the joy of dreams\, ideas and materials\, the teaching\, the learning\, the making\, the giving and receiving. Art is such a giver of joy\, first to the maker\, then the buyer and/or the receiver. \nAll materials and tools will be provided. \nStrictly limited numbers. Ages 12+ You can book in advance to secure your place or take a chance of a place being available on the day. \nOnly $15 per person\, per session \nBOOK NOW\nBack to Traditional Arts Fair 2024 < \n 
URL:https://budacastlemaine.org/event/traditional-arts-fair-make-n-take/
LOCATION:VIC
ATTACH;FMTTYPE=image/jpeg:https://budacastlemaine.org/wp-content/uploads/2024/11/MakenTake4.jpg
END:VEVENT
END:VCALENDAR