BEGIN:VCALENDAR
VERSION:2.0
PRODID:-//Buda Castlemaine - ECPv6.15.17.1//NONSGML v1.0//EN
CALSCALE:GREGORIAN
METHOD:PUBLISH
X-ORIGINAL-URL:https://budacastlemaine.org
X-WR-CALDESC:Events for Buda Castlemaine
REFRESH-INTERVAL;VALUE=DURATION:PT1H
X-Robots-Tag:noindex
X-PUBLISHED-TTL:PT1H
BEGIN:VTIMEZONE
TZID:Australia/Melbourne
BEGIN:STANDARD
TZOFFSETFROM:+1100
TZOFFSETTO:+1000
TZNAME:AEST
DTSTART:20220402T160000
END:STANDARD
BEGIN:DAYLIGHT
TZOFFSETFROM:+1000
TZOFFSETTO:+1100
TZNAME:AEDT
DTSTART:20221001T160000
END:DAYLIGHT
BEGIN:STANDARD
TZOFFSETFROM:+1100
TZOFFSETTO:+1000
TZNAME:AEST
DTSTART:20230401T160000
END:STANDARD
BEGIN:DAYLIGHT
TZOFFSETFROM:+1000
TZOFFSETTO:+1100
TZNAME:AEDT
DTSTART:20230930T160000
END:DAYLIGHT
BEGIN:STANDARD
TZOFFSETFROM:+1100
TZOFFSETTO:+1000
TZNAME:AEST
DTSTART:20240406T160000
END:STANDARD
BEGIN:DAYLIGHT
TZOFFSETFROM:+1000
TZOFFSETTO:+1100
TZNAME:AEDT
DTSTART:20241005T160000
END:DAYLIGHT
END:VTIMEZONE
BEGIN:VEVENT
DTSTART;TZID=Australia/Melbourne:20231119T100000
DTEND;TZID=Australia/Melbourne:20231119T160000
DTSTAMP:20260421T023357
CREATED:20230104T041011Z
LAST-MODIFIED:20231115T024819Z
UID:3358-1700388000-1700409600@budacastlemaine.org
SUMMARY:Traditional Arts Fair 2023
DESCRIPTION:The Traditional Arts Fair 2023 is back on the 19th November.\n[vc_video link=’https://youtu.be/ilmVjhlc6AI’] \n[vc_row][vc_column width=’1/2′][/vc_column][vc_column width=’1/2′] \nBuda brings the Traditional Arts Fair to Castlemaine on Sunday November 19th from 10am till 4pm. Set amongst the spectacular spring garden Buda will showcase traditional arts\, cooking and gardening in as many and varied forms as possible\, in the spirit of the Leviny daughters. Embroidery\, book binding\, saffron\, weaving\, garden crafts\, metalwork\, felting\, painting\, jewellery\, cooking\, handmade body products\, basket weaving and much more! \nThe fair will also feature handcrafted ice cream\, coffee\, a gourmet BBQ\, Devonshire teas\, light lunches\, and even Shedshaker brewery’s bar. There will be something to satisfy every palate. \nWith three stages hosting free demonstrations\, individual demonstrations at each stall\, roving musicians and a special guest artist in residence\, there will be plenty of entertainment and opportunities to learn. Families can enjoy children’s activities to keep the little ones engaged and entertained throughout the day. There will be a Make’n Take table where you can learn to make some beautiful copper wares and there will be guided tours of the house at various times throughout the day. \nAdults are only 5 dollars and kids are free\, so don’t miss out on a fantastic family day out. Gates are open at 10am until 4pm and you can book in advance through the website or buy tickets at the gate on the day. budacastlemaine.org \n[/vc_column][/vc_row] \nAdults $5 kids are free\nPets not allowed please. Assistance dogs welcome. \nBook tickets in advance\n  \n  \nFree Demonstrations on the Food stage\, the Garden stage and the Traditional Arts stage. >See here for the timetable\n   \nMake ‘n Take with Andrea McKey 11am or 1pm – $15\, bookings required at the booking table\nMake a copper magnet using prepared leaf shapes. Colour in the shapes with waxy coloured pencils of your choice. Think seasonal colours or go wild and do your own colour scheme. Take it home with you. Ages 7+ \n \n  \n2023 raffle with beautiful handcrafted prizes >see more\n   \nFood >See more\n   \nFree Kids activities all day on the lawn\n  \n 
URL:https://budacastlemaine.org/event/taf23/
LOCATION:VIC
ATTACH;FMTTYPE=image/png:https://budacastlemaine.org/wp-content/uploads/2019/10/TAF_Logo_s.png
END:VEVENT
END:VCALENDAR