BEGIN:VCALENDAR
VERSION:2.0
PRODID:-//Buda Castlemaine - ECPv6.15.17.1//NONSGML v1.0//EN
CALSCALE:GREGORIAN
METHOD:PUBLISH
X-WR-CALNAME:Buda Castlemaine
X-ORIGINAL-URL:https://budacastlemaine.org
X-WR-CALDESC:Events for Buda Castlemaine
REFRESH-INTERVAL;VALUE=DURATION:PT1H
X-Robots-Tag:noindex
X-PUBLISHED-TTL:PT1H
BEGIN:VTIMEZONE
TZID:Australia/Melbourne
BEGIN:STANDARD
TZOFFSETFROM:+1100
TZOFFSETTO:+1000
TZNAME:AEST
DTSTART:20210403T160000
END:STANDARD
BEGIN:DAYLIGHT
TZOFFSETFROM:+1000
TZOFFSETTO:+1100
TZNAME:AEDT
DTSTART:20211002T160000
END:DAYLIGHT
BEGIN:STANDARD
TZOFFSETFROM:+1100
TZOFFSETTO:+1000
TZNAME:AEST
DTSTART:20220402T160000
END:STANDARD
BEGIN:DAYLIGHT
TZOFFSETFROM:+1000
TZOFFSETTO:+1100
TZNAME:AEDT
DTSTART:20221001T160000
END:DAYLIGHT
BEGIN:STANDARD
TZOFFSETFROM:+1100
TZOFFSETTO:+1000
TZNAME:AEST
DTSTART:20230401T160000
END:STANDARD
BEGIN:DAYLIGHT
TZOFFSETFROM:+1000
TZOFFSETTO:+1100
TZNAME:AEDT
DTSTART:20230930T160000
END:DAYLIGHT
END:VTIMEZONE
BEGIN:VTIMEZONE
TZID:UTC
BEGIN:STANDARD
TZOFFSETFROM:+0000
TZOFFSETTO:+0000
TZNAME:UTC
DTSTART:20210101T000000
END:STANDARD
END:VTIMEZONE
BEGIN:VEVENT
DTSTART;TZID=Australia/Melbourne:20220920T093000
DTEND;TZID=Australia/Melbourne:20220920T113000
DTSTAMP:20260421T232315
CREATED:20220823T035033Z
LAST-MODIFIED:20220823T035033Z
UID:3198-1663666200-1663673400@budacastlemaine.org
SUMMARY:Fun and Games at Buda
DESCRIPTION:BOOK NOW\nCome and explore toys and games from the past.\nMarbles\nJumping jacks Spinning tops Quoits\nHooky\nSkittles\nCoconut shy\nCat’s Cradle\nHoop & Stick games Hopscotch\nFlick cards\nDolls\nTrains \nMake your own peg doll or action figure to take home \n\n\n\nSuitable for ages 4-12 years. Children to be accompanied by an adult. Share your skills and stories with your children and grandchildren. \nCost: $15 per person \nIncludes games\, craft activities\, morning tea with scones\, jam and cream. \n\n\n\nEnquiries: Meredith Blake (03) 5472 1032 or email curator@budacastlemaine.org \nBOOK NOW
URL:https://budacastlemaine.org/event/fun-and-games-at-buda/
LOCATION:Buda Historic Home and Garden\, 42 Hunter St\, CASTLEMAINE\, VIC\, 3450\, Australia
ATTACH;FMTTYPE=image/jpeg:https://budacastlemaine.org/wp-content/uploads/2022/08/Wheelbarrow.jpg
END:VEVENT
BEGIN:VEVENT
DTSTART;TZID=UTC:20220921T130000
DTEND;TZID=UTC:20220921T143000
DTSTAMP:20260421T232315
CREATED:20220811T040801Z
LAST-MODIFIED:20220811T050645Z
UID:3165-1663765200-1663770600@budacastlemaine.org
SUMMARY:Spring Garden Ramble with Carol Henderson
DESCRIPTION:Book Now\n[vc_separator type=’normal’ position=’center’ color=’#ffffff’ thickness=’40’ up=” down=”] \nWednesday September 21st\, 1pm -2.30pm\nSpring Ramble – Spring in the Buda garden is just glorious\, with new flowers to discover every week. Explore some of these hardy and drought tolerant plant treasures with our Garden Curator\, Carol Henderson\, who will also discuss spring garden maintenance and share what our garden team are up to this season. Afternoon tea\, children’s activity and plant sale included. \nCost $15 full/$12 concession card holders\, volunteers and Friends of Buda. $5 children 12yo and under \nThis is an outdoor event so please come dressed for the weather. Note this walk includes uneven paths and stairs\, please contact us for accessibility support. For accessibility enquiries please email Carol. \n       \nBuda’s own Garden Curator\, Carol Henderson is a horticulturist\, permaculture designer and teacher. Passionate about urban food production\, she finds all plants and gardens fascinating and regularly runs workshops for CERES\, schools and local councils. Working with children\, youth and adults from all walks of life\, Carol tailors each session to suit the needs and interests of each group. Her style is friendly and highly interactive so you won’t be sitting still for long! \n\nBook Now
URL:https://budacastlemaine.org/event/spring-ramble/
LOCATION:Buda Historic Home and Garden\, 42 Hunter St\, CASTLEMAINE\, VIC\, 3450\, Australia
ATTACH;FMTTYPE=image/jpeg:https://budacastlemaine.org/wp-content/uploads/2022/08/20210924_115937.jpg
END:VEVENT
END:VCALENDAR