BEGIN:VCALENDAR
VERSION:2.0
PRODID:-//Buda Castlemaine - ECPv6.15.17.1//NONSGML v1.0//EN
CALSCALE:GREGORIAN
METHOD:PUBLISH
X-ORIGINAL-URL:https://budacastlemaine.org
X-WR-CALDESC:Events for Buda Castlemaine
REFRESH-INTERVAL;VALUE=DURATION:PT1H
X-Robots-Tag:noindex
X-PUBLISHED-TTL:PT1H
BEGIN:VTIMEZONE
TZID:UTC
BEGIN:STANDARD
TZOFFSETFROM:+0000
TZOFFSETTO:+0000
TZNAME:UTC
DTSTART:20210101T000000
END:STANDARD
END:VTIMEZONE
BEGIN:VEVENT
DTSTART;TZID=UTC:20220508T140000
DTEND;TZID=UTC:20220508T160000
DTSTAMP:20260422T051855
CREATED:20210714T192952Z
LAST-MODIFIED:20220427T042457Z
UID:2727-1652018400-1652025600@budacastlemaine.org
SUMMARY:Mother's Day High Tea with Christine Nixon
DESCRIPTION:SORRY – SOLD OUT\nBOOK NOW\nOur Mother’s Day High Tea will be on Sunday 8th May 2022 commencing at 2pm\, a perfect way to spend a pleasurable Sunday afternoon. \nThis year’s speaker will be Christine Nixon. Christine is a well known author\, experienced public speaker and advocate for women\, disadvantaged youth and multifaith/multicultural communities. \n[vc_row][vc_column width=’1/3′][/vc_column][vc_column width=’2/3′]Christine Nixon has had an extraodinary life. She has pursued and been given many opportunities. She has experienced the best and worst of human behaviour. She has been highly praised and highly criticised but never ignored. \nAn Arresting Life\nChristine will tell us the story of the changes in women’s lives over the last 50 years from her perspective of policing and community service and its relationship to the independent lives of the Leviny women.[/vc_column][/vc_row] \nWhat you can expect \n\n\n\n\n\nSparkling wine on arrival\nHigh tea\, savouries and sweets served to your table\nLeaf tea and brewed coffee\nOptional tour of the House and garden\n\n   \n[vc_separator type=’normal’ position=’center’ color=’#ffffff’ thickness=’50’ up=” down=”] \n$45 ADULT $42 CONC\n$40 FRIENDS OF BUDA\nBOOK NOW
URL:https://budacastlemaine.org/event/mothersday-high-tea/
LOCATION:VIC
ATTACH;FMTTYPE=image/jpeg:https://budacastlemaine.org/wp-content/uploads/2021/07/TableSetting2019_VH.jpg
END:VEVENT
END:VCALENDAR