BEGIN:VCALENDAR
VERSION:2.0
PRODID:-//Buda Castlemaine - ECPv6.15.17.1//NONSGML v1.0//EN
CALSCALE:GREGORIAN
METHOD:PUBLISH
X-WR-CALNAME:Buda Castlemaine
X-ORIGINAL-URL:https://budacastlemaine.org
X-WR-CALDESC:Events for Buda Castlemaine
REFRESH-INTERVAL;VALUE=DURATION:PT1H
X-Robots-Tag:noindex
X-PUBLISHED-TTL:PT1H
BEGIN:VTIMEZONE
TZID:UTC
BEGIN:STANDARD
TZOFFSETFROM:+0000
TZOFFSETTO:+0000
TZNAME:UTC
DTSTART:20210101T000000
END:STANDARD
END:VTIMEZONE
BEGIN:VEVENT
DTSTART;TZID=UTC:20220402T100000
DTEND;TZID=UTC:20220402T120000
DTSTAMP:20260422T065141
CREATED:20220317T030230Z
LAST-MODIFIED:20220317T032739Z
UID:3009-1648893600-1648900800@budacastlemaine.org
SUMMARY:Tinsmithing with the Old Woolshed Tinsmith
DESCRIPTION:[vc_row][vc_column width=’1/2′] \nOur Traditional Arts workshops 2022 \n[/vc_column][vc_column width=’1/2′][/vc_column][/vc_row] \nLearn new skills and help revive a lost trade of Tinsmithing workshop with Pete Kruger.\nBOOK NOW\n  \nThe Krugers dream to combine skills with the desire to create long lasting heirloom products. They have passion for producing quality Australian made products and also want to share this lost trade with others in their range of tinsmithing workshops. Class sizes are kept small in order to offer a quality experience. All materials supplied. (No experience necessary) \n10am – 12pm $100\nMake 3 copper or tin Stars using tin smithing skills.\nStars have many creative options. Make hanging stars or tree topper stars. \n   \nPete really enjoys the art of sheetmetal fabrication and the skills of hands on tinsmithing.\nTaking a flat sheet of tinplate or galvanized sheet and with knowledge and skills creating a decorative household item.\nActually he is obsessively passionate about it and it’s his mission to teach\, encourage and revive these skills and knowledge.\nPete has been a qualified Sheetmetal fabricator\, since 1986. He is based in rural Victoria and operates out of a 1950’s converted wool shed. \nPreserving skills\, teaching how to make & mend and encouraging ALL to try something new and create is a strong driving force behind establishing his tinsmithing and welding workshops.\nThe Krugers also manufacture and wholesale beautiful heirloom products .\nThey want to remind people of a time when household items where made locally and by hand or hand driven machines. When things where made to last and treated with respect as it was not the use once throw away society we live in today. \nBOOK NOW\n  \n     \n 
URL:https://budacastlemaine.org/event/tinsmithing/
LOCATION:Buda Historic Home and Garden\, 42 Hunter St\, CASTLEMAINE\, VIC\, 3450\, Australia
ATTACH;FMTTYPE=image/jpeg:https://budacastlemaine.org/wp-content/uploads/2020/09/Pete.jpg
END:VEVENT
BEGIN:VEVENT
DTSTART;TZID=UTC:20220402T133000
DTEND;TZID=UTC:20220402T153000
DTSTAMP:20260422T065141
CREATED:20200920T162627Z
LAST-MODIFIED:20220317T032630Z
UID:2180-1648906200-1648913400@budacastlemaine.org
SUMMARY:An introduction to backyard chooks
DESCRIPTION:[vc_row][vc_column width=’1/2′] \nOur Traditional Arts workshops 2022 \n[/vc_column][vc_column width=’1/2′][/vc_column][/vc_row] \n\nAn introduction to the benefits of living with backyard chooks\n\nBOOK NOW\nWith the state of the world\, we are currently living in\, have you made the move to live more simply and as part of this\, do you dream of walking out to your own chicken coop and collecting fresh eggs for breakfast? Not only that chooks make a great addition to sustainable gardens and make great backyard companions. \nSo come along\, spend a few hours with Kerrie and Pete\, from Our Life Our Way chatting about living with backyard chickens. We will cover \nThe pros and cons of different breeds \nBasic needs – housing\, roosting and nesting\, free ranging\, feeding and water systems\, and food and foods to avoid \nTips for avoiding and managing pests and diseases \nChook predators \nProblems to be Prevented – common parasites and health issues using organic and natural methods including medicinal herbs \nChicken First Aid Kit \nMyths and troubleshooting \nWe don’t profess to know it all but have learnt heaps over the 20+ years we have lived with backyard chickens\, we aim to provide practical and hands on advice to help steer you in the right direction with your own backyard chooks. \n1.30-3.30pm $50\nConcession and Friends of Buda $45\nIncludes coffee and cake \n   \nThe Krugers also manufacture and wholesale beautiful heirloom products .\nThey want to remind people of a time when household items where made locally and by hand or hand driven machines. When things where made to last and treated with respect as it was not the use once throw away society we live in today. \nBOOK NOW\n  \n     \n 
URL:https://budacastlemaine.org/event/chooks/
LOCATION:Buda Historic Home and Garden\, 42 Hunter St\, CASTLEMAINE\, VIC\, 3450\, Australia
ATTACH;FMTTYPE=image/jpeg:https://budacastlemaine.org/wp-content/uploads/2020/09/chicken4.jpg
END:VEVENT
BEGIN:VEVENT
DTSTART;TZID=UTC:20220420T090000
DTEND;TZID=UTC:20220420T103000
DTSTAMP:20260422T065141
CREATED:20220318T005036Z
LAST-MODIFIED:20220318T012216Z
UID:3033-1650445200-1650450600@budacastlemaine.org
SUMMARY:Autumn Garden Ramble with Carol Henderson
DESCRIPTION:Book Now\nWednesday April 20th\, 9am -10.30am. \nDiscover some of the Buda plants that shine in autumn. This tour will be conducted by our Garden Curator who will also share what our garden team are up to this season. Because it’s school holidays\, the ramble includes a planting activity for children during morning tea. \nCost $15 full/$12 concession card holders\, volunteers and Friends of Buda. $5 children 12yo and under \nPlease come dressed for the weather. Note this walk includes uneven paths and is not suitable for people with limited mobility.  \nMorning tea and plant sale included. \n       \nBuda’s own Garden Curator\, Carol Henderson is a horticulturist\, permaculture designer and teacher. Passionate about urban food production\, she finds all plants and gardens fascinating and regularly runs workshops for CERES\, schools and local councils. Working with children\, youth and adults from all walks of life\, Carol tailors each session to suit the needs and interests of each group. Her style is friendly and highly interactive so you won’t be sitting still for long! \n\nBook Now
URL:https://budacastlemaine.org/event/autumn-ramble-copy/
LOCATION:Buda Historic Home and Garden\, 42 Hunter St\, CASTLEMAINE\, VIC\, 3450\, Australia
ATTACH;FMTTYPE=image/jpeg:https://budacastlemaine.org/wp-content/uploads/2022/03/BudaTank2021.jpg
END:VEVENT
BEGIN:VEVENT
DTSTART;TZID=UTC:20220422T180000
DTEND;TZID=UTC:20220422T200000
DTSTAMP:20260422T065141
CREATED:20220317T235855Z
LAST-MODIFIED:20220407T043419Z
UID:3025-1650650400-1650657600@budacastlemaine.org
SUMMARY:Buda After Dark
DESCRIPTION:“November 1900 Dorothy writes in her diary: “Last Monday was bonfire night\, we had a bonfire between the tennis court and mangle room…” \nJoin us at Buda on Friday 22nd April for wine and cheese followed by a twilight tour with Kerry Anderson. As we enjoy dusk in the garden and view the township and Buda house under lights\, we will consider what this beautiful piece of land would have been like pre and post the goldrush\, and how it continues to flourish today. Words from Dorothy’s diary and Hilda’s recorded interviews will provide a fascinating insight into family life at Buda after dark. From family bonfires to world events such as the fire bell ringing to break the news of the relief of Mafeking and Armistice Day. Inside the house we will explore what pursuits the Leviny family enjoyed under the light of candle\, gas and electricity and relive the horror of a young Hilda accidentally setting fire to the curtains! \n$25/$22\nFriends of Buda $20 \nBOOK NOW\nStories of Buda. A series of specially themed tours and after dark exclusive events exploring the life and times of the extraordinary Leviny family through 118 years of makers and collectors\, Arts and Crafts and creative family life \nThe Australian Heritage Festival is bringing people together from across the country\, from all walks of life\, and for those who have enjoyed discovering heritage for a long time or are just taking their first steps to do so. Join us. Celebrate heritage and culture through ceremony\, song and dance\, performance art\, talks and tours.\n  Buda After Dark  \n \n 
URL:https://budacastlemaine.org/event/buda-afterdark/
LOCATION:Buda Historic Home and Garden\, 42 Hunter St\, CASTLEMAINE\, VIC\, 3450\, Australia
ATTACH;FMTTYPE=image/jpeg:https://budacastlemaine.org/wp-content/uploads/2022/03/Lamplight.jpg
END:VEVENT
BEGIN:VEVENT
DTSTART;TZID=UTC:20220423T110000
DTEND;TZID=UTC:20220423T123000
DTSTAMP:20260422T065141
CREATED:20220317T033005Z
LAST-MODIFIED:20220318T040607Z
UID:3021-1650711600-1650717000@budacastlemaine.org
SUMMARY:Living amongst the mines tour with Clive Willman
DESCRIPTION:BOOK NOW\nA fascinating tour presented by renowned Geological consultant Clive Willman on Saturday 23rd April. \nThe Living Amongst the Mines tour explores the sights and sounds that the Leviny family experienced in the late 19th century. This artistic and cultured family\, more than any other household in Castlemaine\, were surrounded by the clanging and banging of mine machinery. Deep shafts were located just metres from their fence line\, and at times\, even the streets were mined. Amazingly they tolerated all this until Ernest Leviny drew the line when a sulphurous and smoke belching mineral processing plant\, just around the corner\, withered his precious garden and poisoned the kids. \n  \n$15/$12 Conc. and Friends of Buda \nMorning tea included \nBOOK NOW\nStories of Buda. A series of specially themed tours and after dark exclusive events exploring the life and times of the extraordinary Leviny family through 118 years of makers and collectors\, Arts and Crafts and creative family life \nThe Australian Heritage Festival is bringing people together from across the country\, from all walks of life\, and for those who have enjoyed discovering heritage for a long time or are just taking their first steps to do so. Join us. Celebrate heritage and culture through ceremony\, song and dance\, performance art\, talks and tours.\n 
URL:https://budacastlemaine.org/event/mines-tour/
LOCATION:Buda Historic Home and Garden\, 42 Hunter St\, CASTLEMAINE\, VIC\, 3450\, Australia
ATTACH;FMTTYPE=image/jpeg:https://budacastlemaine.org/wp-content/uploads/2022/03/Cow-on-Mullock-heap-1912.jpg
END:VEVENT
BEGIN:VEVENT
DTSTART;TZID=UTC:20220424T110000
DTEND;TZID=UTC:20220424T123000
DTSTAMP:20260422T065141
CREATED:20220318T011609Z
LAST-MODIFIED:20220318T022506Z
UID:3038-1650798000-1650803400@budacastlemaine.org
SUMMARY:Arts and Crafts Tour with Chris Lloyd
DESCRIPTION:Book Now\nThe Leviny sisters had a great interest in following the growth of Australian Art in the early 20thCentury. They supported both male and female artists\, the rise of printmaking and were instrumental in the formation of the Castlemaine Art Gallery and Museum. \nIn this special tour\, Christine Lloyd will bring to life the story of the remarkable Leviny family and their relationship with the Arts and Crafts movement and Buda’s Australian Arts collection. \n$15/$12 conch. and Friends of Buda. Includes morning tea \nBook Now\n[vc_row][vc_column width=’1/3′] \nStill Life Linocut (c1930) by Alice Newell (Buda Collection) \n[/vc_column][vc_column width=’1/3′] \nOrchids (1925) Hand-coloured woodcut by Margaret Preston (Buda Collection)The Levinys had correspondence with Margaret Preston in 1941. \n[/vc_column][vc_column width=’1/3′] \nGum Trees (c1910) Watercolour by Elsie (Hake) Barlow (Buda Collection)Believed to have been purchased by the Levinys from her 1912 solo exhibition in the Mechanics Institute\, Castlemaine. \n[/vc_column][/vc_row] \nStories of Buda. A series of specially themed tours and after dark exclusive events exploring the life and times of the extraordinary Leviny family through 118 years of makers and collectors\, Arts and Crafts and creative family life \nThe Australian Heritage Festival is bringing people together from across the country\, from all walks of life\, and for those who have enjoyed discovering heritage for a long time or are just taking their first steps to do so. Join us. Celebrate heritage and culture through ceremony\, song and dance\, performance art\, talks and tours.
URL:https://budacastlemaine.org/event/artsandcrafts-tour/
LOCATION:VIC
ATTACH;FMTTYPE=image/jpeg:https://budacastlemaine.org/wp-content/uploads/2021/10/Screen-Shot-2021-10-14-at-10.39.53-am.jpg
END:VEVENT
END:VCALENDAR