BEGIN:VCALENDAR
VERSION:2.0
PRODID:-//Buda Castlemaine - ECPv6.15.17.1//NONSGML v1.0//EN
CALSCALE:GREGORIAN
METHOD:PUBLISH
X-ORIGINAL-URL:https://budacastlemaine.org
X-WR-CALDESC:Events for Buda Castlemaine
REFRESH-INTERVAL;VALUE=DURATION:PT1H
X-Robots-Tag:noindex
X-PUBLISHED-TTL:PT1H
BEGIN:VTIMEZONE
TZID:UTC
BEGIN:STANDARD
TZOFFSETFROM:+0000
TZOFFSETTO:+0000
TZNAME:UTC
DTSTART:20210101T000000
END:STANDARD
END:VTIMEZONE
BEGIN:VEVENT
DTSTART;TZID=UTC:20220323T130000
DTEND;TZID=UTC:20220323T160000
DTSTAMP:20260422T081830
CREATED:20220307T145848Z
LAST-MODIFIED:20220315T163652Z
UID:2987-1648040400-1648051200@budacastlemaine.org
SUMMARY:Beginners Guide to Pruning with Carol Henderson
DESCRIPTION:Book Now\nPruning is easy and fun when you know how\, but understanding why\, when and how to prune is important. In this workshop\, you’ll skill up in all the basics so you can get started pruning right away\, including a practice on plants in the Buda garden! Learn how to improve plant health and maximise fruit and flower production as well as how to choose the right tools for the job and keep them in good condition. BYO secateurs for sharpening\, or just use ours. Note this is a hands on workshop which be conducted outside. It includes uneven paths and is not suitable for people with limited mobility.  Please come dressed for the weather. Afternoon tea included. \n     \nBuda’s own Garden Curator\, Carol Henderson is a horticulturist\, permaculture designer and teacher. Passionate about urban food production\, she finds all plants and gardens fascinating and regularly runs workshops for CERES\, schools and local councils. Working with children\, youth and adults from all walks of life\, Carol tailors each session to suit the needs and interests of each group. Her style is friendly and highly interactive so you won’t be sitting still for long! \nPrice includes afternoon tea. \n[vc_separator type=’normal’ position=’center’ color=’#fffcfc’ thickness=’40’ up=” down=”] \n\n\nWhat to bring \nNote pad and pen \nWhat to wear \nComfortable\, weather-appropriate clothing and sturdy footwear \n\nBook Now
URL:https://budacastlemaine.org/event/pruning/
LOCATION:Buda Historic Home and Garden\, 42 Hunter St\, CASTLEMAINE\, VIC\, 3450\, Australia
ATTACH;FMTTYPE=image/jpeg:https://budacastlemaine.org/wp-content/uploads/2021/10/Carol.jpg
END:VEVENT
END:VCALENDAR