BEGIN:VCALENDAR
VERSION:2.0
PRODID:-//Buda Castlemaine - ECPv6.15.17.1//NONSGML v1.0//EN
CALSCALE:GREGORIAN
METHOD:PUBLISH
X-ORIGINAL-URL:https://budacastlemaine.org
X-WR-CALDESC:Events for Buda Castlemaine
REFRESH-INTERVAL;VALUE=DURATION:PT1H
X-Robots-Tag:noindex
X-PUBLISHED-TTL:PT1H
BEGIN:VTIMEZONE
TZID:UTC
BEGIN:STANDARD
TZOFFSETFROM:+0000
TZOFFSETTO:+0000
TZNAME:UTC
DTSTART:20200101T000000
END:STANDARD
END:VTIMEZONE
BEGIN:VEVENT
DTSTART;VALUE=DATE:20210319
DTEND;VALUE=DATE:20210419
DTSTAMP:20260423T020136
CREATED:20210119T125134Z
LAST-MODIFIED:20210302T144313Z
UID:2399-1616112000-1618790399@budacastlemaine.org
SUMMARY:Buda's Secret Garden
DESCRIPTION:Buda’s Secret Garden\nDiscover the ‘Secret’ delights of the garden with a pot-pourri of exhibitions and site specific artworks\, a treasury of literary talks and a cornucopia of hands on workshops and kids activities.\nBuda Historic Home and Garden have created the Secret Garden\, a haven of curiosity for all ages. In recent years\, Buda has held a Traditional Arts Fair\, and for the festival it will explore the themes of traditional\, horticultural and culinary arts. At set times throughout the festival\, the Secret Garden will host exhibitions\, hands-on workshops\, talks and site-specific artworks\, as well as a treasure hunt to encourage foragers of all ages to wander around the garden and discover hidden delights. \n  \nGeneral Admission Program \n\nLorena Carrington House Exhibition More info>\nAndrea McKey Secret Garden vignettes More info>\nNancye Canobie outdoor Trees of Buda print installation and entrance windows of the Garden Room More info>\n\nDaily 12 – 5pm \nTicketed events \nSusannah Fullerton – Literary lectures – Vita Sackville-West and Sissinghurst – Includes Wine and Cheese More info> \nLorena Carrington Literary Talk – Fairy Tales and Secret Gardens More info> \nLorena Carrington – Cyanotype workshops More info> \nAndrea McKey – Felt Garden Workshop More info>
URL:https://budacastlemaine.org/event/secret-garden/
LOCATION:Buda Historic Home and Garden\, 42 Hunter St\, CASTLEMAINE\, VIC\, 3450\, Australia
ATTACH;FMTTYPE=image/jpeg:https://budacastlemaine.org/wp-content/uploads/2021/01/Buda-Secret-Garden.jpg
END:VEVENT
BEGIN:VEVENT
DTSTART;VALUE=DATE:20210319
DTEND;VALUE=DATE:20210419
DTSTAMP:20260423T020136
CREATED:20210119T133106Z
LAST-MODIFIED:20210120T121916Z
UID:2410-1616112000-1618790399@budacastlemaine.org
SUMMARY:Lorena Carrington - Fairy Tales and Secret Gardens
DESCRIPTION:Buda’s Secret Garden\nDiscover the ‘Secret’ delights of the garden with a pot-pourri of exhibitions and site specific artworks\, a treasury of literary talks and a cornucopia of hands on workshops and kids activities.\n[vc_separator type=’normal’ position=’center’ color=’#ffffff’ thickness=” up=” down=”]\nLorena Carrington – Fairy Tales and Secret Gardens\nLorena Carrington is a photographic artist and published illustrator who will hold a photographic exhibition in the Historic House that responds to the ‘Secret Garden’ theme and two literary talks. Lorena exhibits regularly\, contributes creative work to arts and literary festivals\, and her works are held in Australian and International collections. She is the recipient of the Australian Fairy Tale Society Award for 2020. Her illustrations are created from many photographs montaged together (up to 100 in each image)\, to create works that are rich with light and edged with darkness. Her work has a magical\, ethereal and secret quality perfectly suited to the ‘Secret Garden’ theme and also speaks to the Historic House’s rich heritage of creative women and their roles in telling the artistic story to the broader community. \nDaily 12 – 5pm \nGeneral admission \n\nLorena Carrington – Beauty and the Beast \n \n\nLorena Carrington – Golden Bird \n \n 
URL:https://budacastlemaine.org/event/fairy-tales/
LOCATION:Buda Historic Home and Garden\, 42 Hunter St\, CASTLEMAINE\, VIC\, 3450\, Australia
ATTACH;FMTTYPE=image/jpeg:https://budacastlemaine.org/wp-content/uploads/2021/01/LorenaCarrington_FairerThanAFairy-copy.jpg
END:VEVENT
BEGIN:VEVENT
DTSTART;VALUE=DATE:20210319
DTEND;VALUE=DATE:20210419
DTSTAMP:20260423T020136
CREATED:20210119T170428Z
LAST-MODIFIED:20210120T121954Z
UID:2470-1616112000-1618790399@budacastlemaine.org
SUMMARY:Andrea McKey – Secret Garden Vignettes
DESCRIPTION:Buda’s Secret Garden\nDiscover the ‘Secret’ delights of the garden with a pot-pourri of exhibitions and site specific artworks\, a treasury of literary talks and a cornucopia of hands on workshops and kids activities.\n[vc_separator type=’normal’ position=’center’ color=’#ffffff’ thickness=” up=” down=”]\nAndrea McKey – Secret Garden Vignettes\nAndrea McKey is a maker of functional and decorative glassware\, glass and polymer clay works\, jewellery\, mixed media mosaics\, mixed media vignettes and handmade embroidered felt pieces that embrace the ideals of the Arts and Crafts movement that Buda is renowned for. Andrea will create a series of ‘peek into’ mixed media ‘Secret Garden’ vignettes\, discoverable through the front bay windows of the Historic home.  Running several of our Traditional Arts Fair workshops\, Andrea keeps Buda connected to the community just as the Leviny women did in the troubled time post Spanish flu and war times. She believes in the joy of dreams\, ideas and materials\, the teaching\, the learning\, the making\, the giving and receiving\, perfect for our Covid anxious times. \nDaily 12 – 5pm \nGeneral admission \n\nSecret Garden \n \n\nVignette \n \n 
URL:https://budacastlemaine.org/event/andrea-mckey/
LOCATION:Buda Historic Home and Garden\, 42 Hunter St\, CASTLEMAINE\, VIC\, 3450\, Australia
ATTACH;FMTTYPE=image/jpeg:https://budacastlemaine.org/wp-content/uploads/2021/01/AMKVignette.jpg
END:VEVENT
BEGIN:VEVENT
DTSTART;VALUE=DATE:20210319
DTEND;VALUE=DATE:20210419
DTSTAMP:20260423T020136
CREATED:20210119T175955Z
LAST-MODIFIED:20210120T122043Z
UID:2484-1616112000-1618790399@budacastlemaine.org
SUMMARY:Nancye Canobie  – Trees of the Secret Garden
DESCRIPTION:Buda’s Secret Garden\nDiscover the ‘Secret’ delights of the garden with a pot-pourri of exhibitions and site specific artworks\, a treasury of literary talks and a cornucopia of hands on workshops and kids activities.\n[vc_separator type=’normal’ position=’center’ color=’#ffffff’ thickness=” up=” down=”]\nNancye Canobie – Trees of the Secret Garden\nNancye Canobie will be creating large works on drafting film referencing the trees of the Buda Garden and exhibiting etchings in the Garden room. This installation is informed by a pervasive energy – (spirit) within nature. This spirit is expressed in her work in her relationship with the Australian bush and in particular to the sculptural dynamics of certain trees. \nThe dead tree is her signifier of the degradation of much of our natural environment. \nDaily 12 – 5pm \nGeneral admission \n\nNancye Canobie \n \n\nNancye Canobie – Trees \n \n 
URL:https://budacastlemaine.org/event/nancye-canobie/
LOCATION:Buda Historic Home and Garden\, 42 Hunter St\, CASTLEMAINE\, VIC\, 3450\, Australia
ATTACH;FMTTYPE=image/jpeg:https://budacastlemaine.org/wp-content/uploads/2021/01/Nancye_s.jpg
END:VEVENT
BEGIN:VEVENT
DTSTART;TZID=UTC:20210404T103000
DTEND;TZID=UTC:20210406T163000
DTSTAMP:20260423T020136
CREATED:20210223T150206Z
LAST-MODIFIED:20210223T161015Z
UID:2537-1617532200-1617726600@budacastlemaine.org
SUMMARY:Drawing Workshop - Catherine Pilgrim
DESCRIPTION:Drawing Workshop at Buda Historic Home and Garden\nSunday 4th to 6th April 2021\n​\n\nEnjoy three days of observational drawing in a fully supported environment. Draw to hone skills in observation\, concentration and patience. Come and allow structured time to draw\, the basis of all visual artwork. ​Fully catered with all materials supplied. \nThis three day workshop will take you on an intensive and exploratory journey into more observational and patient drawing.  Build skills that will compliment and strengthen your visual arts interests\, be it professional or less experienced. This special workshop will be held with a mutually supportive small group at Buda Historic Home and Garden in lovely Castlemaine\, Central Victoria. \nTwo sessions of drawing each of the three days\, punctuated with morning and afternoon teas as well a delicious light lunch.\nStrictly limited to seven participants. Cost $550 also includes materials\, delicious lunch\, morning and afternoon tea. \nCOVID safety\nWe will be very well spaced. When necessary\, masks are to be worn and sanitiser used according to government regulations.  \nCatherine Pilgrim’s 3 day workshop was everything I needed to catalyse me into action after a long break from creative enterprise. Catherine is encouraging\, warm and generous in her approach. As well as being an inspiring artist\, she is a great teacher. She nurtures your creativity and skill development gently and the wonderful meals and homemade cakes were a fabulous bonus.      Hannah  \nPlease email or phone Catherine to register or for further details.\ncp@catherinepilgrim.com\n​0412 550100
URL:https://budacastlemaine.org/event/drawing-workshop-catherine-pilgrim/
LOCATION:VIC
ATTACH;FMTTYPE=image/jpeg:https://budacastlemaine.org/wp-content/uploads/2021/02/53458_10150091158344418_5162730_o.jpg
ORGANIZER;CN="Catherine Pilgrim":MAILTO:cp@catherinepilgrim.com
END:VEVENT
BEGIN:VEVENT
DTSTART;TZID=UTC:20210417T180000
DTEND;TZID=UTC:20210417T200000
DTSTAMP:20260423T020136
CREATED:20200123T161409Z
LAST-MODIFIED:20210330T190304Z
UID:1676-1618682400-1618689600@budacastlemaine.org
SUMMARY:Buda After Dark
DESCRIPTION:A twilight tour presented by Kerry Anderson with wine and cheese on Saturday 17thApril\, giving a fascinating insight into evening-life in the olden days with candles and gas lamps. \n“November 1900 Dorothy writes in her diary: “Last Monday was bonfire night\, we had a bonfire between the tennis court and mangle room…”\n$25/$22\nFriends of Buda $20 \nBOOK NOW\nStories of Buda. A series of specially themed tours and after dark exclusive events exploring the life and times of the extraordinary Leviny family through 118 years of makers and collectors\, Arts and Crafts and creative family life \nThe Australian Heritage Festival is bringing people together from across the country\, from all walks of life\, and for those who have enjoyed discovering heritage for a long time or are just taking their first steps to do so. Join us. Celebrate heritage and culture through ceremony\, song and dance\, performance art\, talks and tours.\n 
URL:https://budacastlemaine.org/event/buda-after-dark/
LOCATION:VIC
ATTACH;FMTTYPE=image/jpeg:https://budacastlemaine.org/wp-content/uploads/2020/01/BudaLamp_VH2020.jpg
END:VEVENT
BEGIN:VEVENT
DTSTART;TZID=UTC:20210417T180000
DTEND;TZID=UTC:20210523T180000
DTSTAMP:20260423T020136
CREATED:20210331T152203Z
LAST-MODIFIED:20210331T152807Z
UID:2587-1618682400-1621792800@budacastlemaine.org
SUMMARY:NATIONAL TRUST HERITAGE FESTIVAL Themed Tours
DESCRIPTION:Buda’s specialist tour guides will bring to life the story of the remarkable Leviny family with a series of specially designed themed tours that will present anecdotes of gold\, family life\, the Arts and Crafts movement and Buda’s Australian Arts collection. \nBOOK NOW\n[vc_separator type=’normal’ position=’center’ color=’#ffffff’ thickness=50” up=” down=”] \nNamed after Budapest by its Hungarian owner\, Ernest Leviny\, Buda was home to the creative family for 118 years. Following in his footsteps\, five of his daughters were extraordinarily artistic and Buda houses their significant intact collection of furniture\, art works and personal belongings. Themed tours will explore their works\, their lives and influences and the collection. A special after dark Lamplight Tour will give a fascinating insight into evenings spent by candles and gas lamps\, and tours will also tell the story of goldsmith Ernest Leviny and life on the goldfields. Play the Buda Garden Treasure Hunt app for kids and finally a Twilight Jazz event will make for a special evening in Buda’s Garden room and formal garden. \n\n\n\n\n	DateTimeTour/EventPresenter\n\n\n\n\n	Saturday 17th April 6pmBuda After Dark / Wine and CheeseKerry Anderson\n\n\n	Sunday 18th April11amA Golden Opportunity: Ernest Leviny’s Story  Chris Wheat\n\n\n	Saturday 24th April11amMakers and Collectors\nThe Arts and Crafts Movement and the influence on the Leviny DaughtersHouse Curator Lauretta Zilles\n\n\n	Saturday 1st May11amA Happy Family:\nChildhood memories growing up at Buda (Through the eyes of the Leviny Children)Margaret Callister\n\n\n	Saturday 1st May5pmTwilight Jazz with barThe Chonk Trio\n\n\n	Sunday 2nd May11amLevinys and Gold: Living amongst the MinesClive Willman\n\n\n	Sunday 23rd May11amArt Influences and Influencers: A Focus on the Buda Art CollectionChris Lloyd\n\n\n\n\nBOOK NOW\n[vc_separator type=’normal’ position=’center’ color=’#ffffff’ thickness=” up=” down=”] \nStories of Buda. A series of specially themed tours and after dark exclusive events exploring the life and times of the extraordinary Leviny family through 118 years of makers and collectors\, Arts and Crafts and creative family life \nThe Australian Heritage Festival is bringing people together from across the country\, from all walks of life\, and for those who have enjoyed discovering heritage for a long time or are just taking their first steps to do so. Join us. Celebrate heritage and culture through ceremony\, song and dance\, performance art\, talks and tours.\n[vc_row][vc_column width=’1/6′] \n \n[/vc_column][vc_column width=’1/6′] \n \n[/vc_column][vc_column width=’1/6′] \n \n[/vc_column][vc_column width=’1/6′][/vc_column][vc_column width=’1/6′] \n \n[/vc_column][vc_column width=’1/6′][/vc_column][/vc_row]
URL:https://budacastlemaine.org/event/national-trust-heritage-festival-themed-tours/
LOCATION:VIC
ATTACH;FMTTYPE=image/jpeg:https://budacastlemaine.org/wp-content/uploads/2019/11/Children-with-Teddies.jpg
END:VEVENT
END:VCALENDAR