BEGIN:VCALENDAR
VERSION:2.0
PRODID:-//Buda Castlemaine - ECPv6.15.17.1//NONSGML v1.0//EN
CALSCALE:GREGORIAN
METHOD:PUBLISH
X-WR-CALNAME:Buda Castlemaine
X-ORIGINAL-URL:https://budacastlemaine.org
X-WR-CALDESC:Events for Buda Castlemaine
REFRESH-INTERVAL;VALUE=DURATION:PT1H
X-Robots-Tag:noindex
X-PUBLISHED-TTL:PT1H
BEGIN:VTIMEZONE
TZID:UTC
BEGIN:STANDARD
TZOFFSETFROM:+0000
TZOFFSETTO:+0000
TZNAME:UTC
DTSTART:20200101T000000
END:STANDARD
END:VTIMEZONE
BEGIN:VEVENT
DTSTART;VALUE=DATE:20210319
DTEND;VALUE=DATE:20210419
DTSTAMP:20260423T031537
CREATED:20210119T125134Z
LAST-MODIFIED:20210302T144313Z
UID:2399-1616112000-1618790399@budacastlemaine.org
SUMMARY:Buda's Secret Garden
DESCRIPTION:Buda’s Secret Garden\nDiscover the ‘Secret’ delights of the garden with a pot-pourri of exhibitions and site specific artworks\, a treasury of literary talks and a cornucopia of hands on workshops and kids activities.\nBuda Historic Home and Garden have created the Secret Garden\, a haven of curiosity for all ages. In recent years\, Buda has held a Traditional Arts Fair\, and for the festival it will explore the themes of traditional\, horticultural and culinary arts. At set times throughout the festival\, the Secret Garden will host exhibitions\, hands-on workshops\, talks and site-specific artworks\, as well as a treasure hunt to encourage foragers of all ages to wander around the garden and discover hidden delights. \n  \nGeneral Admission Program \n\nLorena Carrington House Exhibition More info>\nAndrea McKey Secret Garden vignettes More info>\nNancye Canobie outdoor Trees of Buda print installation and entrance windows of the Garden Room More info>\n\nDaily 12 – 5pm \nTicketed events \nSusannah Fullerton – Literary lectures – Vita Sackville-West and Sissinghurst – Includes Wine and Cheese More info> \nLorena Carrington Literary Talk – Fairy Tales and Secret Gardens More info> \nLorena Carrington – Cyanotype workshops More info> \nAndrea McKey – Felt Garden Workshop More info>
URL:https://budacastlemaine.org/event/secret-garden/
LOCATION:Buda Historic Home and Garden\, 42 Hunter St\, CASTLEMAINE\, VIC\, 3450\, Australia
ATTACH;FMTTYPE=image/jpeg:https://budacastlemaine.org/wp-content/uploads/2021/01/Buda-Secret-Garden.jpg
END:VEVENT
BEGIN:VEVENT
DTSTART;VALUE=DATE:20210319
DTEND;VALUE=DATE:20210419
DTSTAMP:20260423T031537
CREATED:20210119T133106Z
LAST-MODIFIED:20210120T121916Z
UID:2410-1616112000-1618790399@budacastlemaine.org
SUMMARY:Lorena Carrington - Fairy Tales and Secret Gardens
DESCRIPTION:Buda’s Secret Garden\nDiscover the ‘Secret’ delights of the garden with a pot-pourri of exhibitions and site specific artworks\, a treasury of literary talks and a cornucopia of hands on workshops and kids activities.\n[vc_separator type=’normal’ position=’center’ color=’#ffffff’ thickness=” up=” down=”]\nLorena Carrington – Fairy Tales and Secret Gardens\nLorena Carrington is a photographic artist and published illustrator who will hold a photographic exhibition in the Historic House that responds to the ‘Secret Garden’ theme and two literary talks. Lorena exhibits regularly\, contributes creative work to arts and literary festivals\, and her works are held in Australian and International collections. She is the recipient of the Australian Fairy Tale Society Award for 2020. Her illustrations are created from many photographs montaged together (up to 100 in each image)\, to create works that are rich with light and edged with darkness. Her work has a magical\, ethereal and secret quality perfectly suited to the ‘Secret Garden’ theme and also speaks to the Historic House’s rich heritage of creative women and their roles in telling the artistic story to the broader community. \nDaily 12 – 5pm \nGeneral admission \n\nLorena Carrington – Beauty and the Beast \n \n\nLorena Carrington – Golden Bird \n \n 
URL:https://budacastlemaine.org/event/fairy-tales/
LOCATION:Buda Historic Home and Garden\, 42 Hunter St\, CASTLEMAINE\, VIC\, 3450\, Australia
ATTACH;FMTTYPE=image/jpeg:https://budacastlemaine.org/wp-content/uploads/2021/01/LorenaCarrington_FairerThanAFairy-copy.jpg
END:VEVENT
BEGIN:VEVENT
DTSTART;VALUE=DATE:20210319
DTEND;VALUE=DATE:20210419
DTSTAMP:20260423T031537
CREATED:20210119T170428Z
LAST-MODIFIED:20210120T121954Z
UID:2470-1616112000-1618790399@budacastlemaine.org
SUMMARY:Andrea McKey – Secret Garden Vignettes
DESCRIPTION:Buda’s Secret Garden\nDiscover the ‘Secret’ delights of the garden with a pot-pourri of exhibitions and site specific artworks\, a treasury of literary talks and a cornucopia of hands on workshops and kids activities.\n[vc_separator type=’normal’ position=’center’ color=’#ffffff’ thickness=” up=” down=”]\nAndrea McKey – Secret Garden Vignettes\nAndrea McKey is a maker of functional and decorative glassware\, glass and polymer clay works\, jewellery\, mixed media mosaics\, mixed media vignettes and handmade embroidered felt pieces that embrace the ideals of the Arts and Crafts movement that Buda is renowned for. Andrea will create a series of ‘peek into’ mixed media ‘Secret Garden’ vignettes\, discoverable through the front bay windows of the Historic home.  Running several of our Traditional Arts Fair workshops\, Andrea keeps Buda connected to the community just as the Leviny women did in the troubled time post Spanish flu and war times. She believes in the joy of dreams\, ideas and materials\, the teaching\, the learning\, the making\, the giving and receiving\, perfect for our Covid anxious times. \nDaily 12 – 5pm \nGeneral admission \n\nSecret Garden \n \n\nVignette \n \n 
URL:https://budacastlemaine.org/event/andrea-mckey/
LOCATION:Buda Historic Home and Garden\, 42 Hunter St\, CASTLEMAINE\, VIC\, 3450\, Australia
ATTACH;FMTTYPE=image/jpeg:https://budacastlemaine.org/wp-content/uploads/2021/01/AMKVignette.jpg
END:VEVENT
BEGIN:VEVENT
DTSTART;VALUE=DATE:20210319
DTEND;VALUE=DATE:20210419
DTSTAMP:20260423T031537
CREATED:20210119T175955Z
LAST-MODIFIED:20210120T122043Z
UID:2484-1616112000-1618790399@budacastlemaine.org
SUMMARY:Nancye Canobie  – Trees of the Secret Garden
DESCRIPTION:Buda’s Secret Garden\nDiscover the ‘Secret’ delights of the garden with a pot-pourri of exhibitions and site specific artworks\, a treasury of literary talks and a cornucopia of hands on workshops and kids activities.\n[vc_separator type=’normal’ position=’center’ color=’#ffffff’ thickness=” up=” down=”]\nNancye Canobie – Trees of the Secret Garden\nNancye Canobie will be creating large works on drafting film referencing the trees of the Buda Garden and exhibiting etchings in the Garden room. This installation is informed by a pervasive energy – (spirit) within nature. This spirit is expressed in her work in her relationship with the Australian bush and in particular to the sculptural dynamics of certain trees. \nThe dead tree is her signifier of the degradation of much of our natural environment. \nDaily 12 – 5pm \nGeneral admission \n\nNancye Canobie \n \n\nNancye Canobie – Trees \n \n 
URL:https://budacastlemaine.org/event/nancye-canobie/
LOCATION:Buda Historic Home and Garden\, 42 Hunter St\, CASTLEMAINE\, VIC\, 3450\, Australia
ATTACH;FMTTYPE=image/jpeg:https://budacastlemaine.org/wp-content/uploads/2021/01/Nancye_s.jpg
END:VEVENT
BEGIN:VEVENT
DTSTART;TZID=UTC:20210320T100000
DTEND;TZID=UTC:20210320T113000
DTSTAMP:20260423T031537
CREATED:20210302T143456Z
LAST-MODIFIED:20210302T144017Z
UID:2548-1616234400-1616239800@budacastlemaine.org
SUMMARY:Lorena Carrington – Cyanotype Workshop for kids
DESCRIPTION:Buda’s Secret Garden\nDiscover the ‘Secret’ delights of the garden with a pot-pourri of exhibitions and site specific artworks\, a treasury of literary talks and a cornucopia of hands on workshops and kids activities.\n[vc_separator type=’normal’ position=’center’ color=’#ffffff’ thickness=” up=” down=”]\nLorena Carrington – Cyanotype Workshops\nLorena Carrington is a photographic illustrator and artist who has worked with some of Australia’s best-loved authors. Her cyanotype workshop is much loved by artists and writers\, children and adults. Participants explore their local surroundings and use found objects\, and the cyanotype process (one of the earliest forms of photographic printing)\, to create their own montaged creatures and landscapes. In these workshops\, we will explore the Buda garden to find inspiration for our own artworks. Paint your background and make a bird from leaves\, a house from sticks\, or a secret garden from flowers and feathers. These are workshops for all ages and abilities\, as the montage technique is an opportunity for stress-free creative play\, and pleasure in the environment. \nChildren’s Workshop Sat 20 March\, 10am\nTeenager’s Workshop Sat 20 March 1pm\nAdults Workshop Sat 27 March\, 2pm\n$30 Kids and Teenager workshop\n$50\, $45 Conc Adult Workshop \nBOOK NOW\n[vc_separator type=’normal’ position=’center’ color=’#ffffff’ thickness=” up=” down=”] \n\n  \nLorena Carrington \nCyanotype Workshop \nAbout Lorena \n \n\nCyanotype Workshop \nCyanotype Workshop \n \n 
URL:https://budacastlemaine.org/event/cyanotype-kids/
LOCATION:Buda Historic Home and Garden\, 42 Hunter St\, CASTLEMAINE\, VIC\, 3450\, Australia
ATTACH;FMTTYPE=image/jpeg:https://budacastlemaine.org/wp-content/uploads/2021/01/WorkshopLC-Adult.jpeg
END:VEVENT
BEGIN:VEVENT
DTSTART;TZID=UTC:20210320T130000
DTEND;TZID=UTC:20210320T143000
DTSTAMP:20260423T031537
CREATED:20210302T143554Z
LAST-MODIFIED:20210302T144132Z
UID:2550-1616245200-1616250600@budacastlemaine.org
SUMMARY:Lorena Carrington – Cyanotype Workshop for teenagers
DESCRIPTION:Buda’s Secret Garden\nDiscover the ‘Secret’ delights of the garden with a pot-pourri of exhibitions and site specific artworks\, a treasury of literary talks and a cornucopia of hands on workshops and kids activities.\n[vc_separator type=’normal’ position=’center’ color=’#ffffff’ thickness=” up=” down=”]\nLorena Carrington – Cyanotype Workshops\nLorena Carrington is a photographic illustrator and artist who has worked with some of Australia’s best-loved authors. Her cyanotype workshop is much loved by artists and writers\, children and adults. Participants explore their local surroundings and use found objects\, and the cyanotype process (one of the earliest forms of photographic printing)\, to create their own montaged creatures and landscapes. In these workshops\, we will explore the Buda garden to find inspiration for our own artworks. Paint your background and make a bird from leaves\, a house from sticks\, or a secret garden from flowers and feathers. These are workshops for all ages and abilities\, as the montage technique is an opportunity for stress-free creative play\, and pleasure in the environment. \nChildren’s Workshop Sat 20 March\, 10am\nTeenager’s Workshop Sat 20 March 1pm\nAdults Workshop Sat 27 March\, 2pm\n$30 Kids and Teenager workshop\n$50\, $45 Conc Adult Workshop \nBOOK NOW\n[vc_separator type=’normal’ position=’center’ color=’#ffffff’ thickness=” up=” down=”] \n\n  \nLorena Carrington \nCyanotype Workshop \nAbout Lorena \n \n\nCyanotype Workshop \nCyanotype Workshop \n \n 
URL:https://budacastlemaine.org/event/cyanotype-teens/
LOCATION:Buda Historic Home and Garden\, 42 Hunter St\, CASTLEMAINE\, VIC\, 3450\, Australia
ATTACH;FMTTYPE=image/jpeg:https://budacastlemaine.org/wp-content/uploads/2021/01/WorkshopLC-Adult.jpeg
END:VEVENT
BEGIN:VEVENT
DTSTART;TZID=UTC:20210321T170000
DTEND;TZID=UTC:20210321T183000
DTSTAMP:20260423T031537
CREATED:20210119T153727Z
LAST-MODIFIED:20210228T172052Z
UID:2429-1616346000-1616351400@budacastlemaine.org
SUMMARY:Susannah Fullerton – Vita Sackville-West and Sissinghurst
DESCRIPTION:Buda’s Secret Garden\nDiscover the ‘Secret’ delights of the garden with a pot-pourri of exhibitions and site specific artworks\, a treasury of literary talks and a cornucopia of hands on workshops and kids activities.\n[vc_separator type=’normal’ position=’center’ color=’#ffffff’ thickness=” up=” down=”]\nSusannah Fullerton – Vita Sackville-West and Sissinghurst\nSusannah Fullerton is Sydney’s best-known speaker on well-known authors and their works. \nShe breathes life into great literature and an author’s life. Her talks are partly to instruct\, but also to entertain\, so she tells people all the juicy details about the life of the writer and how a particular incident in their lives might have affected what they wrote. \nShe gives her audience the experience of having known an author personally and her meticulously researched talks vividly describe the life and times of an era and bring her subjects to lives to life. People come along who just want to learn more about great literature. \nIncluding wine and cheese in the fully airconditioned Garden Room at Buda\, Susannah will present a captivating insight into Vita-Sackville-West and the Sissinghurst garden. \nUPDATE\nDue to the uncertainty of border closures from both governments\, Susannah is no longer able to be with us. This event will now be live streamed into our Garden Room venue. Susannah is very experienced in giving her talks online\, and is highly entertaining. Buda will still make your evening special\, so please encourage your friends to book also\, mingle\, wander the gardens and make an evening of it. \nBREAKING NEWS\nWe will now be offering a behind the scenes exclusive twilight tour of the Buda grounds complete with intriguing stories of the life after dark in this very special place and the surrounding goldfields. The tour will commence when Susannah has finished her talk. \n$45 Full\, $42 Concession and Friends of Buda. \nBOOK NOW\n[vc_separator type=’normal’ position=’center’ color=’#ffffff’ thickness=” up=” down=”] \n\nSusannah Fullerton \nAbout Susannah \n \n\nSissinghurst \n \n 
URL:https://budacastlemaine.org/event/sissinghurst/
LOCATION:Buda Historic Home and Garden\, 42 Hunter St\, CASTLEMAINE\, VIC\, 3450\, Australia
ATTACH;FMTTYPE=image/png:https://budacastlemaine.org/wp-content/uploads/2021/01/woolf-love-letter.png
END:VEVENT
BEGIN:VEVENT
DTSTART;TZID=UTC:20210323T170000
DTEND;TZID=UTC:20210323T190000
DTSTAMP:20260423T031537
CREATED:20210119T174001Z
LAST-MODIFIED:20210126T162435Z
UID:2479-1616518800-1616526000@budacastlemaine.org
SUMMARY:Andrea McKey – Felt Garden Workshop
DESCRIPTION:Buda’s Secret Garden\nDiscover the ‘Secret’ delights of the garden with a pot-pourri of exhibitions and site specific artworks\, a treasury of literary talks and a cornucopia of hands on workshops and kids activities.\n[vc_separator type=’normal’ position=’center’ color=’#ffffff’ thickness=” up=” down=”]\nAndrea McKey – Felt Garden Workshop\nMaster of Buda Traditional Arts workshops\, Andrea McKey will help you use very simple sewing\, cutting and embroidery techniques to make colourful and joyous garden elements similar to those seen in her Buda Secret Garden vignettes\, to take home and brighten up your day. \nAndrea will provide: \n\nHer handmade wool felt in a variety of colours and designs\nBits and bobs\, beads\, buttons\, embroidery cottons\, wood\, sculptural pieces\, stuffing\, needles and scissors\n\nAndrea is passionate about art\, colour\, patterns and the joy it brings to her life every day. She believes in the joy of dreams\, ideas and materials\, the teaching\, the learning\, the making\, the giving and receiving. Art is such a giver of joy\, first to the maker\, then the buyer and/or the receiver. \nSnacks and drinks will be provided as part of the workshop. \n$50 Full\, $45 Concession or Friends of Buda. \nBOOK NOW\n[vc_separator type=’normal’ position=’center’ color=’#ffffff’ thickness=” up=” down=”] \n\n  \nFelt Workshop \n  \n \n\nFelt Workshop \n \n  \n 
URL:https://budacastlemaine.org/event/felt-garden/
LOCATION:Buda Historic Home and Garden\, 42 Hunter St\, CASTLEMAINE\, VIC\, 3450\, Australia
ATTACH;FMTTYPE=image/jpeg:https://budacastlemaine.org/wp-content/uploads/2021/01/AMKTrees2.jpg
END:VEVENT
BEGIN:VEVENT
DTSTART;TZID=UTC:20210324T160000
DTEND;TZID=UTC:20210324T170000
DTSTAMP:20260423T031537
CREATED:20210302T143732Z
LAST-MODIFIED:20210302T143852Z
UID:2552-1616601600-1616605200@budacastlemaine.org
SUMMARY:Lorena Carrington - Fairy Tales and Secret Gardens  Literary Talk  Session 1
DESCRIPTION:Buda’s Secret Garden\nDiscover the ‘Secret’ delights of the garden with a pot-pourri of exhibitions and site specific artworks\, a treasury of literary talks and a cornucopia of hands on workshops and kids activities.\n[vc_separator type=’normal’ position=’center’ color=’#ffffff’ thickness=” up=” down=”]\nLorena Carrington – Fairy Tales and Secret Gardens Literary Talk\nJoin photographic artist and illustrator Lorena Carrington as she takes you on a tour of her artworks via her books in the Garden Room at Buda\, and also on a tour of the landscapes within them. From the backyards and bush of Castlemaine\, to the gardens\, forests and windswept shores of France and Ireland\, hear how Lorena weaves the natural world into strange and fantastical fairy tale illustrations. Lorena Carrington is published in Australia with Serenity Press\, and internationally with Kane Miller (US) and Wydawnictwo Tadam (Poland). Her books include the Long Lost Fairy Tales Collection with Kate Forsyth and French Fairy Tales with Sophie Masson. Lorena exhibits regularly in galleries including the Stephen McLaughlan Gallery in Melbourne\, Grace Cossington Smith Gallery in Sydney and The Art Vault in Mildura. She presents at literary and arts festivals around Australia\, and visits schools and libraries to give talks and hold workshops on illustration\, books and story. She is the recipient of the 2020 Australian Fairy Tale Society award\, for her “outstanding contribution to the field of Australian Fairy Tales.” \n$15 full or $12 Concession\, Kids and Friends of Buda \nMarch 24th and 25th 4pm \nBOOK NOW\n[vc_separator type=’normal’ position=’center’ color=’#fffcfc’ thickness=” up=” down=”] \n\nLorena Carrington \nAbout Lorena \n \nFrench Fairy Tales \n \nSnow White Rose Red \n \n\n  \n 
URL:https://budacastlemaine.org/event/fairy-tales-talk-copy/
LOCATION:Buda Historic Home and Garden\, 42 Hunter St\, CASTLEMAINE\, VIC\, 3450\, Australia
ATTACH;FMTTYPE=image/jpeg:https://budacastlemaine.org/wp-content/uploads/2021/01/frenchfairytales.jpg
END:VEVENT
BEGIN:VEVENT
DTSTART;TZID=UTC:20210325T160000
DTEND;TZID=UTC:20210325T170000
DTSTAMP:20260423T031537
CREATED:20210119T160955Z
LAST-MODIFIED:20210302T143911Z
UID:2443-1616688000-1616691600@budacastlemaine.org
SUMMARY:Lorena Carrington - Fairy Tales and Secret Gardens  Literary Talk Session 2
DESCRIPTION:Buda’s Secret Garden\nDiscover the ‘Secret’ delights of the garden with a pot-pourri of exhibitions and site specific artworks\, a treasury of literary talks and a cornucopia of hands on workshops and kids activities.\n[vc_separator type=’normal’ position=’center’ color=’#ffffff’ thickness=” up=” down=”]\nLorena Carrington – Fairy Tales and Secret Gardens Literary Talk\nJoin photographic artist and illustrator Lorena Carrington as she takes you on a tour of her artworks via her books in the Garden Room at Buda\, and also on a tour of the landscapes within them. From the backyards and bush of Castlemaine\, to the gardens\, forests and windswept shores of France and Ireland\, hear how Lorena weaves the natural world into strange and fantastical fairy tale illustrations. Lorena Carrington is published in Australia with Serenity Press\, and internationally with Kane Miller (US) and Wydawnictwo Tadam (Poland). Her books include the Long Lost Fairy Tales Collection with Kate Forsyth and French Fairy Tales with Sophie Masson. Lorena exhibits regularly in galleries including the Stephen McLaughlan Gallery in Melbourne\, Grace Cossington Smith Gallery in Sydney and The Art Vault in Mildura. She presents at literary and arts festivals around Australia\, and visits schools and libraries to give talks and hold workshops on illustration\, books and story. She is the recipient of the 2020 Australian Fairy Tale Society award\, for her “outstanding contribution to the field of Australian Fairy Tales.” \n$15 full or $12 Concession\, Kids and Friends of Buda \nMarch 24th and 25th 4pm \nBOOK NOW\n[vc_separator type=’normal’ position=’center’ color=’#fffcfc’ thickness=” up=” down=”] \n\nLorena Carrington \nAbout Lorena \n \nFrench Fairy Tales \n \nSnow White Rose Red \n \n\n  \n 
URL:https://budacastlemaine.org/event/fairy-tales-talk/
LOCATION:Buda Historic Home and Garden\, 42 Hunter St\, CASTLEMAINE\, VIC\, 3450\, Australia
ATTACH;FMTTYPE=image/jpeg:https://budacastlemaine.org/wp-content/uploads/2021/01/frenchfairytales.jpg
END:VEVENT
BEGIN:VEVENT
DTSTART;TZID=UTC:20210327T140000
DTEND;TZID=UTC:20210327T153000
DTSTAMP:20260423T031537
CREATED:20210119T164644Z
LAST-MODIFIED:20210302T144113Z
UID:2458-1616853600-1616859000@budacastlemaine.org
SUMMARY:Lorena Carrington – Cyanotype Workshop for families
DESCRIPTION:Buda’s Secret Garden\nDiscover the ‘Secret’ delights of the garden with a pot-pourri of exhibitions and site specific artworks\, a treasury of literary talks and a cornucopia of hands on workshops and kids activities.\n[vc_separator type=’normal’ position=’center’ color=’#ffffff’ thickness=” up=” down=”]\nLorena Carrington – Cyanotype Workshops\nLorena Carrington is a photographic illustrator and artist who has worked with some of Australia’s best-loved authors. Her cyanotype workshop is much loved by artists and writers\, children and adults. Participants explore their local surroundings and use found objects\, and the cyanotype process (one of the earliest forms of photographic printing)\, to create their own montaged creatures and landscapes. In these workshops\, we will explore the Buda garden to find inspiration for our own artworks. Paint your background and make a bird from leaves\, a house from sticks\, or a secret garden from flowers and feathers. These are workshops for all ages and abilities\, as the montage technique is an opportunity for stress-free creative play\, and pleasure in the environment. \nChildren’s Workshop Sat 20 March\, 10am\nTeenager’s Workshop Sat 20 March 1pm\nAdults Workshop Sat 27 March\, 2pm\n$30 Kids and Teenager workshop\n$50\, $45 Conc Adult Workshop \nBOOK NOW\n[vc_separator type=’normal’ position=’center’ color=’#ffffff’ thickness=” up=” down=”] \n\n  \nLorena Carrington \nCyanotype Workshop \nAbout Lorena \n \n\nCyanotype Workshop \nCyanotype Workshop \n \n 
URL:https://budacastlemaine.org/event/cyanotype-families/
LOCATION:Buda Historic Home and Garden\, 42 Hunter St\, CASTLEMAINE\, VIC\, 3450\, Australia
ATTACH;FMTTYPE=image/jpeg:https://budacastlemaine.org/wp-content/uploads/2021/01/WorkshopLC-Adult.jpeg
END:VEVENT
END:VCALENDAR