BEGIN:VCALENDAR
VERSION:2.0
PRODID:-//Buda Castlemaine - ECPv6.15.17.1//NONSGML v1.0//EN
CALSCALE:GREGORIAN
METHOD:PUBLISH
X-WR-CALNAME:Buda Castlemaine
X-ORIGINAL-URL:https://budacastlemaine.org
X-WR-CALDESC:Events for Buda Castlemaine
REFRESH-INTERVAL;VALUE=DURATION:PT1H
X-Robots-Tag:noindex
X-PUBLISHED-TTL:PT1H
BEGIN:VTIMEZONE
TZID:UTC
BEGIN:STANDARD
TZOFFSETFROM:+0000
TZOFFSETTO:+0000
TZNAME:UTC
DTSTART:20190101T000000
END:STANDARD
END:VTIMEZONE
BEGIN:VEVENT
DTSTART;TZID=UTC:20200101T000000
DTEND;TZID=UTC:20200329T170000
DTSTAMP:20260423T220252
CREATED:20200113T145301Z
LAST-MODIFIED:20200113T150902Z
UID:1637-1577836800-1585501200@budacastlemaine.org
SUMMARY:Maladies & Medicines
DESCRIPTION:Health Hygiene and Remedies in the Leviny home during the Victorian and Edwardian Eras\nBuda House Exhibition December 2019 – March 2020\nPeople of the Victorian era were very concerned with health issues\, but the crucial links between hygiene and disease were not yet fully understood. After mid-century people’s general health improved measurably with the many major medical breakthroughs that had occurred. This intriguing exhibition gives an insight into the health issues on the goldfields and beyond\, with family anecdotes and fascinating insights into maternity and childbirth\, homeopathy\, first aid\, electrotherapy and healthy outdoor living. \nEntry is included in general admission prices. \n\nImproved Patent Magneto Electric Machine for nervous diseases\, dynamo with steel magnet and brass and ebony terminals to apply to patient\, all in polished wood case dated 1862. \n \nDorothy and Winsome Dec 1915
URL:https://budacastlemaine.org/event/maladies-medicines/
LOCATION:VIC
ATTACH;FMTTYPE=image/jpeg:https://budacastlemaine.org/wp-content/uploads/2020/01/Buda-Medicines-Dec2019-3-scaled.jpg
END:VEVENT
END:VCALENDAR