BEGIN:VCALENDAR
VERSION:2.0
PRODID:-//Buda Castlemaine - ECPv6.15.17.1//NONSGML v1.0//EN
CALSCALE:GREGORIAN
METHOD:PUBLISH
X-ORIGINAL-URL:https://budacastlemaine.org
X-WR-CALDESC:Events for Buda Castlemaine
REFRESH-INTERVAL;VALUE=DURATION:PT1H
X-Robots-Tag:noindex
X-PUBLISHED-TTL:PT1H
BEGIN:VTIMEZONE
TZID:UTC
BEGIN:STANDARD
TZOFFSETFROM:+0000
TZOFFSETTO:+0000
TZNAME:UTC
DTSTART:20180101T000000
END:STANDARD
END:VTIMEZONE
BEGIN:VEVENT
DTSTART;TZID=UTC:20191028T170000
DTEND;TZID=UTC:20191028T183000
DTSTAMP:20260424T051852
CREATED:20190914T212900Z
LAST-MODIFIED:20190917T170408Z
UID:1339-1572282000-1572287400@budacastlemaine.org
SUMMARY:Buda Annual General Meeting
DESCRIPTION:ALL WELCOME\nSpecial Guest speaker \nDavid Leathem \nChair Bendigo Regional Tourism\, Manager Economy & Culture at Mount Alexander Shire Council \nThe visitor journey and Buda’s role in the Creative Industries in Mount Alexander Shire
URL:https://budacastlemaine.org/event/buda-annual-general-meeting/
LOCATION:VIC
ATTACH;FMTTYPE=image/jpeg:https://budacastlemaine.org/wp-content/uploads/2019/09/DL.jpg
END:VEVENT
END:VCALENDAR