BEGIN:VCALENDAR
VERSION:2.0
PRODID:-//Buda Castlemaine - ECPv6.15.17.1//NONSGML v1.0//EN
CALSCALE:GREGORIAN
METHOD:PUBLISH
X-WR-CALNAME:Buda Castlemaine
X-ORIGINAL-URL:https://budacastlemaine.org
X-WR-CALDESC:Events for Buda Castlemaine
REFRESH-INTERVAL;VALUE=DURATION:PT1H
X-Robots-Tag:noindex
X-PUBLISHED-TTL:PT1H
BEGIN:VTIMEZONE
TZID:UTC
BEGIN:STANDARD
TZOFFSETFROM:+0000
TZOFFSETTO:+0000
TZNAME:UTC
DTSTART:20180101T000000
END:STANDARD
END:VTIMEZONE
BEGIN:VEVENT
DTSTART;TZID=UTC:20190323T100000
DTEND;TZID=UTC:20190519T170000
DTSTAMP:20260424T170844
CREATED:20181205T172326Z
LAST-MODIFIED:20190515T155742Z
UID:190-1553335200-1558285200@budacastlemaine.org
SUMMARY:Pursuits of Passion and Principle
DESCRIPTION:Buda Exhibition during the Castlemaine State Festival and beyond\nAustralian Arts & Crafts Jewellery and Decorative Arts\nfrom public and private collections\nThis year Buda is presenting a special exhibition of Australian Arts and Crafts jewellery and decorative arts ‘Pursuits of Passion and Principle’  to complement the existing collection of original artworks and ornamental pieces in the house and garden belonging to the Leviny family. \nThe Arts and Crafts Movement\, begun by William Morris in Britain in the mid-1800s\, greatly influenced the Leviny daughters who lived at Buda. Their passion to decorate the family home with items both ‘beautiful and useful’ is still a feature of the house interior today. \nThis Victorian-style ‘gentleman’s villa’ house with its impressive 1.2 hectare (3 acre) garden\, was owned by Hungarian goldsmith and jeweller\, Ernest Leviny. In the early 1900s the interior of the home was transformed by his daughters\, who infused their great passion for the British Arts and Crafts Movement (influenced by William Morris and his followers) on the internal fittings and décor throughout the house. Many of the Leviny daughters’ original handcrafted items are still a feature of the house interior today. \nOf further interest is the remnant collection of silvermithing items and jewellery designs created by Ernest Leviny\, along with a number of original Australian artworks\, decorative objects and handcrafts collected by the Leviny during their lives. Buda is on the registers of the National Estate and Heritage Victoria\, and is also an Accredited Museum. \nCastlemaine State Festival 23-31 March 2019 \nPursuits of Passion and Principal 23 March – 19 May \n\nDeer Enamelwork Box \n \nBrooch by Rhoda Wager \n  \n\n \nHere is a taste of what is on offer by our curator.\n[vc_video link=’https://youtu.be/G_7rwFPLfXc’] \n\n 
URL:https://budacastlemaine.org/event/castlemaine-state-festival/
LOCATION:Buda Historic Home and Garden\, 42 Hunter St\, CASTLEMAINE\, VIC\, 3450\, Australia
ATTACH;FMTTYPE=image/jpeg:https://budacastlemaine.org/wp-content/uploads/2018/12/IMG_2808.jpg
END:VEVENT
END:VCALENDAR