BEGIN:VCALENDAR
VERSION:2.0
PRODID:-//Buda Castlemaine - ECPv6.15.17.1//NONSGML v1.0//EN
CALSCALE:GREGORIAN
METHOD:PUBLISH
X-WR-CALNAME:Buda Castlemaine
X-ORIGINAL-URL:https://budacastlemaine.org
X-WR-CALDESC:Events for Buda Castlemaine
REFRESH-INTERVAL;VALUE=DURATION:PT1H
X-Robots-Tag:noindex
X-PUBLISHED-TTL:PT1H
BEGIN:VTIMEZONE
TZID:UTC
BEGIN:STANDARD
TZOFFSETFROM:+0000
TZOFFSETTO:+0000
TZNAME:UTC
DTSTART:20180101T000000
END:STANDARD
END:VTIMEZONE
BEGIN:VEVENT
DTSTART;TZID=UTC:20190811T140000
DTEND;TZID=UTC:20190811T160000
DTSTAMP:20260423T202625
CREATED:20190711T172932Z
LAST-MODIFIED:20190715T175029Z
UID:953-1565532000-1565539200@budacastlemaine.org
SUMMARY:A Remarkable Life
DESCRIPTION:Ernest Leviny\nColonial Goldsmith and Jeweller\nAn armchair journey through the life and times of Hungarian born Ernest Leviny. Talk by Buda Curator Lauretta Zilles.\nCost $12 or $8 for Friends of Buda \nBOOK NOW\n 
URL:https://budacastlemaine.org/event/a-remarkable-life/
LOCATION:VIC
ATTACH;FMTTYPE=image/jpeg:https://budacastlemaine.org/wp-content/uploads/2019/07/Leviny-Promo-Postcard.jpg
END:VEVENT
BEGIN:VEVENT
DTSTART;TZID=UTC:20190609T170000
DTEND;TZID=UTC:20190609T190000
DTSTAMP:20260423T202625
CREATED:20190423T183727Z
LAST-MODIFIED:20190423T184053Z
UID:881-1560099600-1560106800@budacastlemaine.org
SUMMARY:Twilight Jazz
DESCRIPTION:[vc_row][vc_column width=’2/3′][/vc_column][vc_column width=’1/3′] \nThis Queen’s birthday long weekend\, Buda is delighted to present a special twilight evening with the incomparable CHONK on Sunday 9thJune at 5pm\, in conjunction with the Castlemaine Jazz Festival \nChonk is one of Melbourne‘s hottest swing outfits specialising in the music of Count Basie and the Benny Goodman sextet. They bring an energy and authenticity to their music that excites both the ears and the feet. Combining the talents of some of Melbourne’s most established musicians as well as its rising stars\, Chonk captures the fervour and passion of swing in the 1940‘s along with the creativity and edge of early Bebop. Whether you want to dance to stomping rhythms or sit and listen to romantic melodies\, Chonk will have you grinning ear to ear. \nDoors open 4.30 and tickets include finger food and there will be a bar available. Winter twilight in the Garden Room will be an absolute delight. \nSingle Tickets $45 \nConcession $42 \nFriends of Buda $40 \nCastlemaine Jazz Festival Ticket holders $40 \nBook Now\n[/vc_column][/vc_row]
URL:https://budacastlemaine.org/event/twilight-jazz/
LOCATION:VIC
ATTACH;FMTTYPE=image/jpeg:https://budacastlemaine.org/wp-content/uploads/2019/04/CJF.jpg
END:VEVENT
BEGIN:VEVENT
DTSTART;TZID=UTC:20190512T140000
DTEND;TZID=UTC:20190512T160000
DTSTAMP:20260423T202625
CREATED:20190401T170947Z
LAST-MODIFIED:20190411T155833Z
UID:846-1557669600-1557676800@budacastlemaine.org
SUMMARY:Mother's Day High Tea
DESCRIPTION:Mother’s Day High Tea and special afternoon of music\n  \nFeaturing Blue Tango – Unique arrangements of Jazz flavoured classic pop songs\n  \n‘ Why don’t we take a little piece of summer sky\,hang it in a tree For that’s the way to start to make a pretty world for you and for me’\n\n\nOur High Tea includes\n\nSparkling wine on arrival\nHigh tea\, savouries and sweets served to your table\nLeaf tea and brewed coffee\nOptional guided tour of the house and garden\n\n  \n$45 ADULT $42 CONC\n$40 FRIENDS OF BUDA\n\n  \n\n[vc_video link=’http://www.youtube.com/v/u-qpeIrTFYY’] Blue Tango is Lynne Gough (vocals and percussion) and Dave Richard (vocals and guitar). No other sounds (they minimalist vulnerability!). Their name comes from the million-selling instrumental hit of 1952. It was a tango in blues form played by a classical orchestra– a great example of the rich mixture typical of great pop music. So Blue Tango points to their love of jazzy popular music. They see ourselves as part of the current ‘retro chic’ phenomenon which includes Diana Krall\, Harry Connick Jr\, Norah Jones\, Michael Buble and the huge success of the Rod Stewart Great American Songbook series of CDs. They produce interesting\, original guitar/vocal arrangements of classic pop songs. \nBOOK NOW
URL:https://budacastlemaine.org/event/mothers-day-high-tea/
LOCATION:VIC
ATTACH;FMTTYPE=image/jpeg:https://budacastlemaine.org/wp-content/uploads/2019/04/IMG_2535.jpg
END:VEVENT
BEGIN:VEVENT
DTSTART;TZID=UTC:20190323T100000
DTEND;TZID=UTC:20190519T170000
DTSTAMP:20260423T202625
CREATED:20181205T172326Z
LAST-MODIFIED:20190515T155742Z
UID:190-1553335200-1558285200@budacastlemaine.org
SUMMARY:Pursuits of Passion and Principle
DESCRIPTION:Buda Exhibition during the Castlemaine State Festival and beyond\nAustralian Arts & Crafts Jewellery and Decorative Arts\nfrom public and private collections\nThis year Buda is presenting a special exhibition of Australian Arts and Crafts jewellery and decorative arts ‘Pursuits of Passion and Principle’  to complement the existing collection of original artworks and ornamental pieces in the house and garden belonging to the Leviny family. \nThe Arts and Crafts Movement\, begun by William Morris in Britain in the mid-1800s\, greatly influenced the Leviny daughters who lived at Buda. Their passion to decorate the family home with items both ‘beautiful and useful’ is still a feature of the house interior today. \nThis Victorian-style ‘gentleman’s villa’ house with its impressive 1.2 hectare (3 acre) garden\, was owned by Hungarian goldsmith and jeweller\, Ernest Leviny. In the early 1900s the interior of the home was transformed by his daughters\, who infused their great passion for the British Arts and Crafts Movement (influenced by William Morris and his followers) on the internal fittings and décor throughout the house. Many of the Leviny daughters’ original handcrafted items are still a feature of the house interior today. \nOf further interest is the remnant collection of silvermithing items and jewellery designs created by Ernest Leviny\, along with a number of original Australian artworks\, decorative objects and handcrafts collected by the Leviny during their lives. Buda is on the registers of the National Estate and Heritage Victoria\, and is also an Accredited Museum. \nCastlemaine State Festival 23-31 March 2019 \nPursuits of Passion and Principal 23 March – 19 May \n\nDeer Enamelwork Box \n \nBrooch by Rhoda Wager \n  \n\n \nHere is a taste of what is on offer by our curator.\n[vc_video link=’https://youtu.be/G_7rwFPLfXc’] \n\n 
URL:https://budacastlemaine.org/event/castlemaine-state-festival/
LOCATION:Buda Historic Home and Garden\, 42 Hunter St\, CASTLEMAINE\, VIC\, 3450\, Australia
ATTACH;FMTTYPE=image/jpeg:https://budacastlemaine.org/wp-content/uploads/2018/12/IMG_2808.jpg
END:VEVENT
BEGIN:VEVENT
DTSTART;TZID=UTC:20190224T140000
DTEND;TZID=UTC:20190224T160000
DTSTAMP:20260423T202626
CREATED:20190205T155902Z
LAST-MODIFIED:20190205T163305Z
UID:759-1551016800-1551024000@budacastlemaine.org
SUMMARY:Sunday Arts and High Tea
DESCRIPTION:Our first Sunday Arts and High Tea for 2019 on Sunday 24thFebruary commencing at 2pm. Our guest performer is piano accordionist\, Rowan Blackmore\, who will carry you away to with his French musette and Macedonian folk repertoire –a perfect way to spend a pleasurable summer Sunday afternoon. We advise guests to book early for these popular afternoon tea events. \n\n\n\n\n\nSparkling wine on arrival\nHigh tea\, savouries and sweets served to your table\nLeaf tea and brewed coffee\nOptional tour of the House and garden\n\n  \n$45 ADULT $42 CONC\n$40 FRIENDS OF BUDA\n  \nBOOK NOW
URL:https://budacastlemaine.org/event/sunday-arts-and-high-tea/
LOCATION:Buda Historic Home and Garden\, 42 Hunter St\, CASTLEMAINE\, VIC\, 3450\, Australia
ATTACH;FMTTYPE=image/jpeg:https://budacastlemaine.org/wp-content/uploads/2019/02/High-Tea-Feb-_sm.jpg
END:VEVENT
END:VCALENDAR