BEGIN:VCALENDAR
VERSION:2.0
PRODID:-//Buda Castlemaine - ECPv6.15.17.1//NONSGML v1.0//EN
CALSCALE:GREGORIAN
METHOD:PUBLISH
X-ORIGINAL-URL:https://budacastlemaine.org
X-WR-CALDESC:Events for Buda Castlemaine
REFRESH-INTERVAL;VALUE=DURATION:PT1H
X-Robots-Tag:noindex
X-PUBLISHED-TTL:PT1H
BEGIN:VTIMEZONE
TZID:Australia/Melbourne
BEGIN:STANDARD
TZOFFSETFROM:+1100
TZOFFSETTO:+1000
TZNAME:AEST
DTSTART:20250405T160000
END:STANDARD
BEGIN:DAYLIGHT
TZOFFSETFROM:+1000
TZOFFSETTO:+1100
TZNAME:AEDT
DTSTART:20251004T160000
END:DAYLIGHT
BEGIN:STANDARD
TZOFFSETFROM:+1100
TZOFFSETTO:+1000
TZNAME:AEST
DTSTART:20260404T160000
END:STANDARD
BEGIN:DAYLIGHT
TZOFFSETFROM:+1000
TZOFFSETTO:+1100
TZNAME:AEDT
DTSTART:20261003T160000
END:DAYLIGHT
BEGIN:STANDARD
TZOFFSETFROM:+1100
TZOFFSETTO:+1000
TZNAME:AEST
DTSTART:20270403T160000
END:STANDARD
BEGIN:DAYLIGHT
TZOFFSETFROM:+1000
TZOFFSETTO:+1100
TZNAME:AEDT
DTSTART:20271002T160000
END:DAYLIGHT
END:VTIMEZONE
BEGIN:VEVENT
DTSTART;TZID=Australia/Melbourne:20260510T140000
DTEND;TZID=Australia/Melbourne:20260510T160000
DTSTAMP:20260420T124927
CREATED:20260417T005644Z
LAST-MODIFIED:20260417T011421Z
UID:4362-1778421600-1778428800@budacastlemaine.org
SUMMARY:Mother's Day Afternoon Tea 2026
DESCRIPTION:Raziel Gutierrez Soto\n \nThis year’s Mother’s Day afternoon tea will be on Sunday 10th May 2026 commencing at 2pm and featuring the wonderful Classical Guitarist Raziel Gutierrez Soto. A perfect way to spend a Sunday afternoon celebrating Mother’s or friends. \nBOOK NOW\nRaziel Gutierrez Soto\nIs a Mexican born musician (classical guitarist\, composer\, singer and songwriter) based in Australia.\nHis style of playing is diverse and world influenced. He performs many different programs\, ranging from purely acoustic solo classical guitar works (including his own compositions); Mexican folk songs; as well as his own songs (with words in both\, Spanish and English).\nFor Raziel\, music making and playing goes beyond a profession\, a career or a trade. For him\, the practice of music is a path of healing\, self knowledge and service.\nWhat you can expect \n\n\n\n\n\nSparkling wine on arrival\nSavouries and sweets\nLeaf tea and brewed coffee\n\nBOOK NOW\nPlease email any dietary restrictions \n\n     \n$50 ADULT $48 CONC\n$45 FRIENDS OF BUDA
URL:https://budacastlemaine.org/event/mothers-day-afternoon-tea-2026/
LOCATION:Buda Historic Home and Garden\, 42 Hunter St\, CASTLEMAINE\, VIC\, 3450\, Australia
ATTACH;FMTTYPE=image/jpeg:https://budacastlemaine.org/wp-content/uploads/2026/04/IMG_2225.jpeg
END:VEVENT
BEGIN:VEVENT
DTSTART;TZID=Australia/Melbourne:20261122T100000
DTEND;TZID=Australia/Melbourne:20261122T160000
DTSTAMP:20260420T124927
CREATED:20250106T223237Z
LAST-MODIFIED:20260331T005842Z
UID:3982-1795341600-1795363200@budacastlemaine.org
SUMMARY:Traditional Arts Fair 2026
DESCRIPTION:The Traditional Arts Fair 2026 is back on the 22nd November.\n[vc_separator type=’normal’ position=’center’ color=’#ffffff’ thickness=’50’ up=” down=”] \n[vc_row][vc_column width=’1/2′] \nSupported by \n         [/vc_column][vc_column width=’1/2′] \nStall bookings will open soon. Please email secretary@budacastlemaine.org if you would like to be on the waiting list.\nStep into a day of colour\, craft and creativity as Buda Historic Home and Garden brings the Traditional Arts Fair to Castlemaine on Sunday 22 November\, from 10am to 4pm. \nSet against the backdrop of Buda’s stunning spring garden\, this vibrant celebration honours the spirit of the Leviny daughters with an inspiring showcase of traditional arts\, cooking and gardening. Discover everything from embroidery\, bookbinding and weaving to saffron\, metalwork\, felting\, jewellery\, painting and more—each stall alive with skill\, story and hands-on demonstrations. \nRound off the day with handcrafted ice cream\, barista-made coffee\, a gourmet BBQ\, Devonshire teas and delicious light lunches—there’s something to tempt every appetite. \nAcross three lively stages\, enjoy free demonstrations\, roving musicians and a special guest artist in residence\, while stallholders share their craft up close. Families are warmly welcomed\, with engaging children’s activities and guided tours of the historic house running throughout the day. \nCome curious\, leave inspired.\nAdults are only 10 dollars and kids are free\, so don’t miss out on a fantastic family day out.\nGates will be open at 10am until 4pm.\nBuy your tickets at the gate\n  \nPets not allowed please.\nAssistance dogs welcome.\n[/vc_column][/vc_row] \n[vc_separator type=’normal’ position=’center’ color=’#879a30′ thickness=’2′ up=” down=”] \n      \nBuda’s famous produce will once again be on sale all day.\n[vc_separator type=’normal’ position=’center’ color=’#879a30′ thickness=’2′ up=” down=”] \nFood! Icecream\, Laksa bu Duang\, Axil Coffee by Ry and Kelsey\, more to come…\n    \nGourmet BBQ including vegetarian and kids BBQ\, Teas\, cakes and scones in the Tea Rooms\n     \n[vc_separator type=’normal’ position=’center’ color=’#879a30′ thickness=’2′ up=” down=”] \nFree Kids activities on the lawn 10am – 3pm\n       \n[vc_separator type=’normal’ position=’center’ color=’#879a30′ thickness=’2′ up=” down=”] \nGreat fun music with the Kyneton Street Band\n[vc_video link=’https://youtu.be/uCdA-GVyGp0?si=AZdzU8aLP6tm0CHs’] \n[vc_separator type=’normal’ position=’center’ color=’#879a30′ thickness=’2′ up=” down=”]
URL:https://budacastlemaine.org/event/taf26/
LOCATION:VIC
ATTACH;FMTTYPE=image/png:https://budacastlemaine.org/wp-content/uploads/2019/10/TAF_Logo_s.png
END:VEVENT
END:VCALENDAR