BEGIN:VCALENDAR
VERSION:2.0
PRODID:-//Buda Castlemaine - ECPv6.15.17.1//NONSGML v1.0//EN
CALSCALE:GREGORIAN
METHOD:PUBLISH
X-WR-CALNAME:Buda Castlemaine
X-ORIGINAL-URL:https://budacastlemaine.org
X-WR-CALDESC:Events for Buda Castlemaine
REFRESH-INTERVAL;VALUE=DURATION:PT1H
X-Robots-Tag:noindex
X-PUBLISHED-TTL:PT1H
BEGIN:VTIMEZONE
TZID:Australia/Melbourne
BEGIN:STANDARD
TZOFFSETFROM:+1100
TZOFFSETTO:+1000
TZNAME:AEST
DTSTART:20250405T160000
END:STANDARD
BEGIN:DAYLIGHT
TZOFFSETFROM:+1000
TZOFFSETTO:+1100
TZNAME:AEDT
DTSTART:20251004T160000
END:DAYLIGHT
BEGIN:STANDARD
TZOFFSETFROM:+1100
TZOFFSETTO:+1000
TZNAME:AEST
DTSTART:20260404T160000
END:STANDARD
BEGIN:DAYLIGHT
TZOFFSETFROM:+1000
TZOFFSETTO:+1100
TZNAME:AEDT
DTSTART:20261003T160000
END:DAYLIGHT
BEGIN:STANDARD
TZOFFSETFROM:+1100
TZOFFSETTO:+1000
TZNAME:AEST
DTSTART:20270403T160000
END:STANDARD
BEGIN:DAYLIGHT
TZOFFSETFROM:+1000
TZOFFSETTO:+1100
TZNAME:AEDT
DTSTART:20271002T160000
END:DAYLIGHT
END:VTIMEZONE
BEGIN:VEVENT
DTSTART;TZID=Australia/Melbourne:20260322T100000
DTEND;TZID=Australia/Melbourne:20260322T160000
DTSTAMP:20260420T182909
CREATED:20251215T031732Z
LAST-MODIFIED:20260311T035825Z
UID:4246-1774173600-1774195200@budacastlemaine.org
SUMMARY:Dianne Longley workshop: Concertina Books - Kids and adults
DESCRIPTION:    \nBOOK NOW\n\nCurious and fanciful creatures are hidden in the Buda garden. A treasure hunt begins… for each character found in the garden you will receive a sticker of the same creature to place in a concertina book. Add a short story about the characters or make a drawing or two! You will have a wonderful adventure in the Buda garden\, and take home a totally wonderful unique artist book.\n\n2 workshops  11am or 2pm\nKids 5+ years or adults\n\nPlease bring lead pencil\, colour pencils.\nPrice includes materials and stickers\n\nParents must accompany children.\nDianne Longley\, BVA\, MA\, PhD works with a range of traditional and digital processes including printmaking\, encaustic and oil painting\, pokerwork on wooden panels\, artist books\, on-glaze porcelain\, and small scale bronze casting. \nThe production of artist’s books has been an ongoing practice in her oeuvre\, ranging from unique hand-painted books to limited edition hand-printed books. Many of her artist’s books are in the collections of the SLV and the NLA. In 2018 she was awarded a PhD by the ANU\, ‘The Development of a Print Culture in South Australia Post-WWII to 2008: institutions\, politics and personalities’ that focused on a previously overlooked era in SA printmaking. \nBOOK NOW
URL:https://budacastlemaine.org/event/concertina-book/2026-03-22/
LOCATION:Buda Historic Home and Garden\, 42 Hunter St\, CASTLEMAINE\, VIC\, 3450\, Australia
ATTACH;FMTTYPE=image/jpeg:https://budacastlemaine.org/wp-content/uploads/2025/07/ConcertinaBookWebBanner.jpg
END:VEVENT
END:VCALENDAR